BEGIN:VCALENDAR
VERSION:2.0
PRODID:-//wp-events-plugin.com//7.0.5//EN
TZID:America/Detroit
X-WR-TIMEZONE:America/Detroit
BEGIN:VEVENT
UID:249@test.arabamerica.com
DTSTART;TZID=America/Detroit:20150317T173000
DTEND;TZID=America/Detroit:20150317T190000
DTSTAMP:20150128T231142Z
URL:https://test.arabamerica.com/events/kings-extras-digging-palestinian-i
 mage/
SUMMARY:“Kings and Extras – Digging for a Palestinian Image”
DESCRIPTION:Screening of Kings and Extras – Digging for a Palestinian Im
 age\, director: Azza el-Hassan (2004)\, Palestine and Germany (Arabic\, E
 nglish subtitles\, 62 min)\nPresented by Azza el-Hassan\n\nThis event is p
 art of  “1948 – Once Upon a Palestine”\, a film series curated by
  Ariella Azoulay\, Assistant Professor of Comparative Literature and Mode
 rn Culture.\n\nAbout Kings and Extras – Digging for a Palestinian Image:
 \n\nThe question what happened to the PLO film archive in particular\, and
  to Palestinians archives in general\, moves this film and leads the filmm
 aker to pursue a long journey that cannot be answered simply. All the semi
 -answers and speculations raised in the movie – such as the archives bei
 ng destroyed during the 1982 Israeli invasion of Beirut or confiscated by 
 the IDF – are part of the story and create another Palestinian image in 
 addition to the lost one. The looted Palestinians archives\, books\, photo
 graphs etc. have preoccupied many scholars in the past decade\, and this c
 inematic account is another contribution to the general question of how to
  address the past whose many records are still held\, controlled and monit
 ored by the political regime in place. This quest led al- Hassan to Syria\
 , Jordan and Lebanon – and paradoxically not to Israel – in search of 
 the lost archive.\n\n
ATTACH;FMTTYPE=image/jpeg:https://test.arabamerica.com/wp-content/uploads/
 2015/01/kings-1948-spring-poster-copy-341x512.jpg
CATEGORIES:Film
LOCATION:Joukowsky Forum\, Watson Institute\, 111 Thayer St\, Providence\, 
 RI\, 02906\, United States
GEO:41.8244012;-71.39999160000002
X-APPLE-STRUCTURED-LOCATION;VALUE=URI;X-ADDRESS=111 Thayer St\, Providence\
 , RI\, 02906\, United States;X-APPLE-RADIUS=100;X-TITLE=Joukowsky Forum\, 
 Watson Institute:geo:41.8244012,-71.39999160000002
END:VEVENT
BEGIN:VTIMEZONE
TZID:America/Detroit
X-LIC-LOCATION:America/Detroit
BEGIN:DAYLIGHT
DTSTART:20150308T030000
TZOFFSETFROM:-0500
TZOFFSETTO:-0400
TZNAME:EDT
END:DAYLIGHT
END:VTIMEZONE
END:VCALENDAR