BEGIN:VCALENDAR
VERSION:2.0
PRODID:-//wp-events-plugin.com//7.0.5//EN
TZID:America/Detroit
X-WR-TIMEZONE:America/Detroit
BEGIN:VEVENT
UID:953@test.arabamerica.com
DTSTART;TZID=America/Detroit:20150425T190000
DTEND;TZID=America/Detroit:20150425T220000
DTSTAMP:20150413T155141Z
URL:https://test.arabamerica.com/events/joy-of-giving-for-our-affected-and
 -displaced-children-in-syria/
SUMMARY:Joy of Giving :For our affected and displaced children in Syria
DESCRIPTION:GEORGIA\n\n"One does not ask of one who suffers: What is your c
 ountry and what is your religion?  One merely says: You suffer\, that is 
 enough for me."    - Louis Pasteur  \n\nBenefit Dinner for the Child
 ren of Syria  \n\nSaturday\, April 25\, 2015   ~  7:00 pm to 10:00 pm
  \n\n \n\nAt St. Elias Antiochian Orthodox Church (Please note this ne
 w location for the dinner) 2045 Ponce de Leon Ave.\, NE Atlanta\, GA 30307
  \n\n \n\nSuggested Donation:  Adults $25.00 / Children $10.00\n\nTo b
 e made to:  St. Elias Antiochian Orthodox Church \n\n \n\nProceeds wi
 ll be divided equally &amp\; sent to:\n\nGreek Orthodox Patriarchate of An
 tioch &amp\; Melkite Greek Catholic Patriarchate of Antioch\n\n \n\nTicke
 ts are selling fast!\n\nPlease R.S.V.P. by April 18\, 2015 and mail your t
 ax deductible donation/reservation(including the number of guests)To: St.
  Elias Antiochian Orthodox Church\, 2045 Ponce de Leon Ave.\, NE  Atlan
 ta\, GA 30307 
ATTACH;FMTTYPE=image/jpeg:https://test.arabamerica.com/wp-content/uploads/
 2015/04/Screen-Shot-2015-04-13-at-11.49.38-AM.png
CATEGORIES:Fundraiser
LOCATION:St. Elias Antiochian Orthodox Church\, 2045 Ponce de Leon Ave.\, N
 E\, Atlanta\, GA\, 30307\, United States
GEO:33.7708294;-84.32113370000002
X-APPLE-STRUCTURED-LOCATION;VALUE=URI;X-ADDRESS=2045 Ponce de Leon Ave.\, N
 E\, Atlanta\, GA\, 30307\, United States;X-APPLE-RADIUS=100;X-TITLE=St. El
 ias Antiochian Orthodox Church:geo:33.7708294,-84.32113370000002
END:VEVENT
BEGIN:VTIMEZONE
TZID:America/Detroit
X-LIC-LOCATION:America/Detroit
BEGIN:DAYLIGHT
DTSTART:20150308T030000
TZOFFSETFROM:-0500
TZOFFSETTO:-0400
TZNAME:EDT
END:DAYLIGHT
END:VTIMEZONE
END:VCALENDAR