BEGIN:VCALENDAR
VERSION:2.0
PRODID:-//wp-events-plugin.com//7.0.5//EN
TZID:America/Detroit
X-WR-TIMEZONE:America/Detroit
BEGIN:VEVENT
UID:935@test.arabamerica.com
DTSTART;TZID=America/Detroit:20150416T190000
DTEND;TZID=America/Detroit:20150416T210000
DTSTAMP:20150408T164439Z
URL:https://test.arabamerica.com/events/iyad-burnat-in-georgia/
SUMMARY:Iyad Burnat In Georgia
DESCRIPTION:GEORGIA\n\nVisiting activist will be in Emory to speak about hi
 s struggle in search of peace.\n\n
ATTACH;FMTTYPE=image/jpeg:https://test.arabamerica.com/wp-content/uploads/
 2015/04/11080919_10203646146306966_2045294601343197474_n.jpg
CATEGORIES:Film,Lecture
LOCATION:Emory University\, 201 Dowman Dr\, Atlanta\, GA\, 30322\, United S
 tates
GEO:33.7894903;-84.32677160000003
X-APPLE-STRUCTURED-LOCATION;VALUE=URI;X-ADDRESS=201 Dowman Dr\, Atlanta\, G
 A\, 30322\, United States;X-APPLE-RADIUS=100;X-TITLE=Emory University:geo:
 33.7894903,-84.32677160000003
END:VEVENT
BEGIN:VTIMEZONE
TZID:America/Detroit
X-LIC-LOCATION:America/Detroit
BEGIN:DAYLIGHT
DTSTART:20150308T030000
TZOFFSETFROM:-0500
TZOFFSETTO:-0400
TZNAME:EDT
END:DAYLIGHT
END:VTIMEZONE
END:VCALENDAR