BEGIN:VCALENDAR
VERSION:2.0
PRODID:-//wp-events-plugin.com//7.0.5//EN
TZID:America/Detroit
X-WR-TIMEZONE:America/Detroit
BEGIN:VEVENT
UID:898@test.arabamerica.com
DTSTART;TZID=America/Detroit:20150415T160000
DTEND;TZID=America/Detroit:20150415T180000
DTSTAMP:20150406T170523Z
URL:https://test.arabamerica.com/events/isis-islam-perspectives-politics-a
 nd-power/
SUMMARY:ISIS & Islam: Perspectives\, Politics and Power
DESCRIPTION:TEXAS\n\nWEDNESADAY:\nYou are eagerly invited to join a discuss
 ion on the current conflicts in the Middle East and elsewhere and how they
  relate to the religion of Islam and its approximately 1.6 billion believe
 rs. Join us in the ACC Pinnacle Campus room 1013.\n\nThis discussion will 
 focus on:\n• the general history and beliefs of Islam\,\n• the differe
 nt perspectives on the faith\,\n• the issue of culture and ethnicity in 
 the region and\n• how politics and power play into these factors.\n\nWe 
 hope this will be an enlightening and encouraging discussion as we present
  and distinguish facts from fiction on this topic.\n\nDiscussion will be l
 ed by Dr. Samuel Echevarria-Cruz\, ACC Associate Professor and Chair Dept.
  of Sociology and Social Work\n\n
ATTACH;FMTTYPE=image/jpeg:https://test.arabamerica.com/wp-content/uploads/
 2015/04/16896_951505571534539_2988610195969188690_n.jpg
CATEGORIES:Academic Lecture
LOCATION:ACC Pinnacle Campus\, 7748 Hwy 290\, Austin\, TX\, 78736\, United 
 States
GEO:30.2314885;-97.88354470000002
X-APPLE-STRUCTURED-LOCATION;VALUE=URI;X-ADDRESS=7748 Hwy 290\, Austin\, TX\
 , 78736\, United States;X-APPLE-RADIUS=100;X-TITLE=ACC Pinnacle Campus:geo
 :30.2314885,-97.88354470000002
END:VEVENT
BEGIN:VTIMEZONE
TZID:America/Detroit
X-LIC-LOCATION:America/Detroit
BEGIN:DAYLIGHT
DTSTART:20150308T030000
TZOFFSETFROM:-0500
TZOFFSETTO:-0400
TZNAME:EDT
END:DAYLIGHT
END:VTIMEZONE
END:VCALENDAR