BEGIN:VCALENDAR
VERSION:2.0
PRODID:-//wp-events-plugin.com//7.0.5//EN
TZID:America/Detroit
X-WR-TIMEZONE:America/Detroit
BEGIN:VEVENT
UID:956@test.arabamerica.com
DTSTART;TZID=America/Detroit;VALUE=DATE:20150420
DTEND;TZID=America/Detroit;VALUE=DATE:20150421
DTSTAMP:20150413T160458Z
URL:https://test.arabamerica.com/events/intro-to-palestineisrael-6-worksho
 p-class/
SUMMARY:Intro to Palestine/Israel: 6-workshop Class
DESCRIPTION:MASSACHUSETTS\n\nUPDATE: The class is full and registratoin is 
 closed! Thanks to all who registered.\n\nIf you want to participate in fut
 ure educational events with us\, please join the mailing list at http://j
 vp-boston.org/get-involved/\n\nMondays\, 6-9 PM\, 4/20 - 6/1 (NO CLASS ON 
 5/4)\nMake Shift Boston\, 549 Columbus Ave\n\nDoes supporting peace in Pal
 estine/Israel feel a little “too complicated?” Familiarity with the po
 litics and history of the region and its people can help us work for justi
 ce in the Middle East in an informed and fulfilling way.\n\nJewish Voice f
 or Peace Boston’s education working group spent months developing a curr
 iculum intended to prepare people of all ages for Palestine/Israel activis
 m\, and debuted the course Fall 2013. The course has been so popular that 
 we are offering a FOURTH edition\, new and improved!\n\nSCHEDULE:\n\n- MON
 DAY April 20\, 6-9 PM – Israel's Founding\n- MONDAY April 27\, 6-9 PM 
 – The Ongoing Nakba\n- NO CLASS ON MONDAY\, MAY 4\n- MONDAY May 11\, 6-9
  PM – The US Role\n- MONDAY\, May 18\, 6-9 PM - Resistance\n- MONDAY\, M
 ay 25\, 6-9 PM - BDS\n- MONDAY\, June 1\, 6-9 PM - Conclusion\n\nJVP leade
 rs Noor Balbaky and Cael Barry will facilitate six interactive\, multimedi
 a workshops designed to invite discussion and questioning. Sessions might 
 include pre-readings of under 20 pages. We require that each participant c
 ommit to attending all workshops. Missing one workshop is okay\, but not t
 he first.\n\n
ATTACH;FMTTYPE=image/jpeg:https://test.arabamerica.com/wp-content/uploads/
 2015/04/21190_959633557387982_4916803070007567532_n.jpg
CATEGORIES:Advocacy
LOCATION:Make Shift Boston\, 549 Columbus Ave\, Boston\, Massachusetts\, 02
 118\, United States
GEO:42.341586;-71.08097049999998
X-APPLE-STRUCTURED-LOCATION;VALUE=URI;X-ADDRESS=549 Columbus Ave\, Boston\,
  Massachusetts\, 02118\, United States;X-APPLE-RADIUS=100;X-TITLE=Make Shi
 ft Boston:geo:42.341586,-71.08097049999998
END:VEVENT
BEGIN:VTIMEZONE
TZID:America/Detroit
X-LIC-LOCATION:America/Detroit
BEGIN:DAYLIGHT
DTSTART:20150308T030000
TZOFFSETFROM:-0500
TZOFFSETTO:-0400
TZNAME:EDT
END:DAYLIGHT
END:VTIMEZONE
END:VCALENDAR