BEGIN:VCALENDAR
VERSION:2.0
PRODID:-//wp-events-plugin.com//7.0.5//EN
TZID:America/Detroit
X-WR-TIMEZONE:America/Detroit
BEGIN:VEVENT
UID:957@test.arabamerica.com
DTSTART;TZID=America/Detroit:20150425T220000
DTEND;TZID=America/Detroit:20150426T020000
DTSTAMP:20150413T164115Z
URL:https://test.arabamerica.com/events/international-night-party/
SUMMARY:International Night Party
DESCRIPTION:FLORIDA\n\nMediaKing proudly presents to you the ultimate Inter
 national Night party Sat Apr the 25th @ Byblos Café Tampa starting 10:00 
 pm\n\nAddress: 2832 S MacDill Ave Tampa Florida\, 33629\n\nProgram\n\nFor 
 the first time DJ HAGZ\nProfessional Hip Expressions Belly Dancer Yolanda\
 n\nFREE Admission\nNo Cover Charge\nNo Entrance Tickets\nIndoor / Outdoor 
 Seating\nHookah available anytime (Outside)\nMediterranean Food\nFull Bar\
 n\n18+ To Smoke\, 21+ To Drink\n\nGreat Musical Show\nGreat Belly Dancing 
 Show\nGreat Mediterranean Food\nGreat Family Atmosphere\nDon't miss it guy
 s ...\nPowered by MediaKing &amp\; DJ Khalil Saad\n\nTables Selection are 
 prior to early bookings\nFor Reservations Tampa Bay Area call (727) 687-24
 66
ATTACH;FMTTYPE=image/jpeg:https://test.arabamerica.com/wp-content/uploads/
 2015/04/11112830_10155381530790153_3928445691685659565_n.jpg
CATEGORIES:Dance/Folk,Music/Folk/World
LOCATION:Byblos Cafe\, 2832 S Macdill Ave\, Tampa\, Florida\, 33629\, Unite
 d States
GEO:27.919932;-82.49333469999999
X-APPLE-STRUCTURED-LOCATION;VALUE=URI;X-ADDRESS=2832 S Macdill Ave\, Tampa\
 , Florida\, 33629\, United States;X-APPLE-RADIUS=100;X-TITLE=Byblos Cafe:g
 eo:27.919932,-82.49333469999999
END:VEVENT
BEGIN:VTIMEZONE
TZID:America/Detroit
X-LIC-LOCATION:America/Detroit
BEGIN:DAYLIGHT
DTSTART:20150308T030000
TZOFFSETFROM:-0500
TZOFFSETTO:-0400
TZNAME:EDT
END:DAYLIGHT
END:VTIMEZONE
END:VCALENDAR