BEGIN:VCALENDAR
VERSION:2.0
PRODID:-//wp-events-plugin.com//7.0.5//EN
TZID:America/Detroit
X-WR-TIMEZONE:America/Detroit
BEGIN:VEVENT
UID:241@test.arabamerica.com
DTSTART;TZID=America/Detroit:20150211T120000
DTEND;TZID=America/Detroit:20150211T133000
DTSTAMP:20150211T073715Z
URL:https://test.arabamerica.com/events/hidden-light-objects-fiction-quoti
 dian-kuwait/
SUMMARY:The Hidden Light of Objects: Fiction and the Quotidian in Kuwait
DESCRIPTION:\nFebruary 11 @ 12:00 pm - 1:30 pm\n| Free\n\n\n\n\n\n\nSpeaker
 : Mai Al-Nakib\, Associate Professor of English and Comparative Literatur
 e\, Kuwait University\n\nRegistration is now open! \n\nPlease be aware\, 
 that upon start of the event\, unclaimed lunches and seats will be given t
 o those on standby\, even if you have registered.\n\nPriority will be give
 n to the Brown community.\n\nThis luncheon lecture will be followed by a b
 ook signing.\n\nThis event will be livestreamed. Click here to access. A 
 recording will be posted to our website after the event.\n\nAbout the Lect
 ure:\n\nWe are all too familiar with images of the Middle East depicted in
  mainstream media—often exaggerated and inaccurate\, sometimes not as f
 ar off the mark as some of us might wish. In recent years\, the region has
  been overwhelmed by occupation\, war\, revolution\, economic crises\, and
  a range of fundamentalisms\, among other threats. While the Gulf countrie
 s appear relatively calm by comparison with many of their neighbors in the
  region\, this may be a temporary respite. Can the state of Kuwait—site 
 of what might be labeled “the forgotten Gulf war”—provide an alterna
 tive view to those currently dominating? In the face of encroaching concer
 ns\, what role\, if any\, can fiction play? Professor Mai Al-Nakib discuss
 es these issues in relation to her recently published collection of short 
 stories\, The Hidden Light of Objects.\n\nBio:\n\nMai Al-Nakib (PhD\, Brow
 n ’04) is Associate Professor of English and Comparative Literature at K
 uwait University. Her research addresses a wide range of issues linked to 
 cultural politics in the Middle East—from Arab feminisms to the ethical 
 question of Palestinians in Kuwait. Her collection of short stories\, The 
 Hidden Light of Objects (Bloomsbury US\, January 2015)\, traces overlooked
  moments in the lives of those who reside in a region often overwhelmed by
  geopolitics. The Hidden Light of Objects won the Edinburgh International 
 Book Festival’s First Book Award in 2014\, the first short story collect
 ion to win in the history of the award. She is currently writing her first
  novel.\n\n\n
ATTACH;FMTTYPE=image/jpeg:https://test.arabamerica.com/wp-content/uploads/
 2015/01/rsz_mai_al-nakib_lecture_opt2-341x512.jpg
CATEGORIES:Academic Lecture,Lecture
LOCATION:Joukowsky Forum\, Watson Institute\, 111 Thayer St\, Providence\, 
 RI\, 02906\, United States
GEO:41.8244012;-71.39999160000002
X-APPLE-STRUCTURED-LOCATION;VALUE=URI;X-ADDRESS=111 Thayer St\, Providence\
 , RI\, 02906\, United States;X-APPLE-RADIUS=100;X-TITLE=Joukowsky Forum\, 
 Watson Institute:geo:41.8244012,-71.39999160000002
END:VEVENT
BEGIN:VTIMEZONE
TZID:America/Detroit
X-LIC-LOCATION:America/Detroit
BEGIN:STANDARD
DTSTART:20141102T010000
TZOFFSETFROM:-0400
TZOFFSETTO:-0500
TZNAME:EST
END:STANDARD
END:VTIMEZONE
END:VCALENDAR