BEGIN:VCALENDAR
VERSION:2.0
PRODID:-//wp-events-plugin.com//7.0.5//EN
TZID:America/Detroit
X-WR-TIMEZONE:America/Detroit
BEGIN:VEVENT
UID:930@test.arabamerica.com
DTSTART;TZID=America/Detroit:20150424T183000
DTEND;TZID=America/Detroit:20150424T210000
DTSTAMP:20150408T162628Z
URL:https://test.arabamerica.com/events/heritages/
SUMMARY:Heritages
DESCRIPTION:DISTRICT OF COLUMBIA\n\nThe Middle East Institute and Filmfest 
 DC are pleased to host the screening of Heritages by Lebanese filmmaker
  Philippe Aractingi.\n\nIn his self-described "autobiographical novel in 
 images\," the Lebanese filmmaker says\, "I've always thought that seeing o
 urselves grow could help us understand our choices."\n\nWhen a man must fl
 ee Lebanon for the third time in his life in the wake of the 2006 Israel-H
 ezbollah war\, the relocation to Paris prompts him to delve into the histo
 ry of his family\, dislocated numerous times in the past by political and 
 military upheavals. Mixing home movies and photographs with reenactments o
 f his ancestors played by members of his family\, as well as interviews wi
 th other relatives and friends\,Heritages is a moving and powerful medita
 tion on identity\, choice\, origins\, and the strong bonds of family. From
  the director of the hit Lebanese film Bosta.\n\n
ATTACH;FMTTYPE=image/jpeg:https://test.arabamerica.com/wp-content/uploads/
 2015/04/heritages.jpg
CATEGORIES:Film
LOCATION:Landmark E Street Cinema\, 555 11th Street N.W.\, Washington\, DC\
 , 20004\, United States
GEO:38.896732;-77.026567
X-APPLE-STRUCTURED-LOCATION;VALUE=URI;X-ADDRESS=555 11th Street N.W.\, Wash
 ington\, DC\, 20004\, United States;X-APPLE-RADIUS=100;X-TITLE=Landmark E 
 Street Cinema:geo:38.896732,-77.026567
END:VEVENT
BEGIN:VTIMEZONE
TZID:America/Detroit
X-LIC-LOCATION:America/Detroit
BEGIN:DAYLIGHT
DTSTART:20150308T030000
TZOFFSETFROM:-0500
TZOFFSETTO:-0400
TZNAME:EDT
END:DAYLIGHT
END:VTIMEZONE
END:VCALENDAR