BEGIN:VCALENDAR
VERSION:2.0
PRODID:-//wp-events-plugin.com//7.0.5//EN
TZID:America/Detroit
X-WR-TIMEZONE:America/Detroit
BEGIN:VEVENT
UID:916@test.arabamerica.com
DTSTART;TZID=America/Detroit:20150515T190000
DTEND;TZID=America/Detroit:20150515T213000
DTSTAMP:20150406T184401Z
URL:https://test.arabamerica.com/events/girrafada-transit-game/
SUMMARY:Girrafada & Transit Game
DESCRIPTION:TEXAS\n\nA Palestinian veterinarian (Saleh Bakri) persuades an 
 Israeli colleague (Roschdy Zem) to help him capture a giraffe from a Tel A
 viv safari park and smuggle it to a zoo in the West Bank.\n\nDrama/ Palest
 ine\, Italy\, Germany\, France/ 2014/ Arabic\, English\, Hebrew/ Color/ 85
  minutes\n\nDate &amp\; Place: Friday\, May 15 - 7:00 PM at Rice Universit
 y Media Center\nDirector: Rani Massalha\nWriter: Xavier Nemo\, Rani Massal
 ha\nCast: Saleh Bakri\, Laure de Clermont-Tonnerre\, Ahmad Bayatra\n\n
ATTACH;FMTTYPE=image/jpeg:https://test.arabamerica.com/wp-content/uploads/
 2015/04/10393967_1036528646360773_6242886068327160336_n.jpg
CATEGORIES:Festivals,Film
LOCATION:Rice Media Center\, 6100 Main Street\, Houston\, TX\, United State
 s
GEO:29.7161208;-95.40430190000001
X-APPLE-STRUCTURED-LOCATION;VALUE=URI;X-ADDRESS=6100 Main Street\, Houston\
 , TX\, United States;X-APPLE-RADIUS=100;X-TITLE=Rice Media Center:geo:29.7
 161208,-95.40430190000001
END:VEVENT
BEGIN:VTIMEZONE
TZID:America/Detroit
X-LIC-LOCATION:America/Detroit
BEGIN:DAYLIGHT
DTSTART:20150308T030000
TZOFFSETFROM:-0500
TZOFFSETTO:-0400
TZNAME:EDT
END:DAYLIGHT
END:VTIMEZONE
END:VCALENDAR