BEGIN:VCALENDAR
VERSION:2.0
PRODID:-//wp-events-plugin.com//7.0.5//EN
TZID:America/Detroit
X-WR-TIMEZONE:America/Detroit
BEGIN:VEVENT
UID:246@test.arabamerica.com
DTSTART;TZID=America/Detroit:20150129T173000
DTEND;TZID=America/Detroit:20150129T190000
DTSTAMP:20150129T002259Z
URL:https://test.arabamerica.com/events/georgetown-university-film-series-
 silences-palace/
SUMMARY:Georgetown University Film Series - Silences of the Palace
DESCRIPTION:\n\n\n\nFilm Series - Silences of the Palace\nThursday\, Januar
 y 29 at 5:30pm \nICC 241\, CCAS Boardroom\n&nbsp\;\n\nThere will be a disc
 ussion after the film with Professor Fatima Kharbouch.\n\nAbout Silences 
 of the Palace:\n\nSet in 1960s Tunisia as the country is emerging from the
  yoke of colonialism\, this film focuses on Alia (Ghalia Lacroix)\, a sing
 er who visits the palace where her mother\, Khedija (Amel Hedhili)\, was o
 nce employed. The journey triggers unpleasant recollections about the way 
 her mother was treated by male members of the privileged class. In a serie
 s of flashbacks\, Alia looks back on her adolescent self (Hend Sabri) and 
 begins to piece together key details about her murky family history.\n\n 
 Event TypeAcademic Events\, LecturesDepartmentsGeorgetown College\, Arabic
  and Islamic Studies\, Edmund A. Walsh School of Foreign Service\, Center 
 for Contemporary Arab Studies\n\n\n
ATTACH;FMTTYPE=image/jpeg:https://test.arabamerica.com/wp-content/uploads/
 2015/01/movie-pic.jpg
CATEGORIES:Academic Lecture,Film
LOCATION:ICC 301\, Georgetown University\, 37th and O Streets\, N.W.\, \, W
 ashington \, D.C. \, 20057\, United States
GEO:38.9141355;-77.07275249999998
X-APPLE-STRUCTURED-LOCATION;VALUE=URI;X-ADDRESS=37th and O Streets\, N.W.\,
  \, Washington \, D.C. \, 20057\, United States;X-APPLE-RADIUS=100;X-TITLE
 =ICC 301\, Georgetown University:geo:38.9141355,-77.07275249999998
END:VEVENT
BEGIN:VTIMEZONE
TZID:America/Detroit
X-LIC-LOCATION:America/Detroit
BEGIN:STANDARD
DTSTART:20141102T010000
TZOFFSETFROM:-0400
TZOFFSETTO:-0500
TZNAME:EST
END:STANDARD
END:VTIMEZONE
END:VCALENDAR