BEGIN:VCALENDAR
VERSION:2.0
PRODID:-//wp-events-plugin.com//7.0.5//EN
TZID:America/Detroit
X-WR-TIMEZONE:America/Detroit
BEGIN:VEVENT
UID:926@test.arabamerica.com
DTSTART;TZID=America/Detroit:20150420T173000
DTEND;TZID=America/Detroit:20150420T193000
DTSTAMP:20150406T192453Z
URL:https://test.arabamerica.com/events/free-screening-halal-in-the-family
 /
SUMMARY:Free Screening: Halal in the Family
DESCRIPTION:ILLINOIS\n\nMonday\, April 20\n\n5:30 pm - Reception with halal
  appetizers\n\n6:00 pm - Screening and Discussion\n\nFILM ROW CINEMA COLUM
 BIA COLLEGE\n1104 S. Wabash\, Chicago\, IL 60605\n\nPlease join us for a s
 pecial screening and discussion of Halal in the Family\, a new satirical w
 eb series starring The Daily Show's Aasif Mandvi and House of Cards' Sakin
 a Jaffrey. Raising awareness of the challenges American Muslims confront w
 hile living amid growing hostility and bias\, Halal in the Family explores
  online bullying and hate networks\, media bias\, and the cynical use of a
 nti-Muslim prejudice for political gain—all with a humorous bite.\n\nHow
  does pop culture influence our perceptions in both good and bad ways? And
  how can parody spur difficult conversations about everyday prejudice in A
 merica? Join us for a screening and discussion with cultural producer Asad
  Jafri\, lawyer and writer Nura Maznavi\, Center for New Community Advocac
 y Director Kalia Abiade\, AAPIP Co-Chair Kashif Shaikh\, and more.\n\nPlea
 se respond via Eventbrite by April 15.\n\nCenter for New Community &amp\; 
 Asian Americans/Pacific Islanders in Philanthropy Chicago\n\nIn parternshi
 p with Sweet 180\, Moore + Associates and Columbia College Asian American 
 Cultural Affairs\n\n&nbsp\;
ATTACH;FMTTYPE=image/jpeg:https://test.arabamerica.com/wp-content/uploads/
 2015/04/11102800_1576961225893491_6784733041599752009_n.jpg
CATEGORIES:Film
LOCATION:Film Row Cinema\, 1104 South Wabash\, Chicago\, IL\, 60605\, Unite
 d States
GEO:41.86908589999999;-87.62611649999997
X-APPLE-STRUCTURED-LOCATION;VALUE=URI;X-ADDRESS=1104 South Wabash\, Chicago
 \, IL\, 60605\, United States;X-APPLE-RADIUS=100;X-TITLE=Film Row Cinema:g
 eo:41.86908589999999,-87.62611649999997
END:VEVENT
BEGIN:VTIMEZONE
TZID:America/Detroit
X-LIC-LOCATION:America/Detroit
BEGIN:DAYLIGHT
DTSTART:20150308T030000
TZOFFSETFROM:-0500
TZOFFSETTO:-0400
TZNAME:EDT
END:DAYLIGHT
END:VTIMEZONE
END:VCALENDAR