BEGIN:VCALENDAR
VERSION:2.0
PRODID:-//wp-events-plugin.com//7.0.5//EN
TZID:America/Detroit
X-WR-TIMEZONE:America/Detroit
BEGIN:VEVENT
UID:586@test.arabamerica.com
DTSTART;TZID=America/Detroit:20150506T190000
DTEND;TZID=America/Detroit:20150506T210000
DTSTAMP:20150304T194234Z
URL:https://test.arabamerica.com/events/film-rachida/
SUMMARY:Film: Rachida
DESCRIPTION:ARIZONA\n\nFrom the Time Out review:\n\n'Each coin is a dream -
  only the nightmare is free in this country.' This debut tells of a young 
 Algerian woman\, who's shot and left for dead after she refuses to plant a
  bomb at the school where she teaches. She escapes to a mountain village w
 ith her mother\, where she eventually regains her confidence and returns t
 o work. The storyline is simple and the camerawork unsophisticated\, but w
 riter/director Yamina Bachir-Chouikh attempts to explores some weightier\,
  more awkward subjects\, particularly those affecting Algerian women: the 
 pressure on divorced women to hide their faces in shame\, the impossibilit
 y of marriage for girls who are raped by their kidnappers\, as well as the
  ever present threat of violence and terrorism that plagues her country.\n
 \nhttp://cmes.arizona.edu/film\n\n
ATTACH;FMTTYPE=image/jpeg:https://test.arabamerica.com/wp-content/uploads/
 2015/03/1970651_814645525265803_7974814242876093616_n.jpg
CATEGORIES:Community,Film
LOCATION:University of Arizona\, University of Arizona\, Tucson\, AZ\, 8572
 1\, United States
GEO:32.2108302;-110.9523054
X-APPLE-STRUCTURED-LOCATION;VALUE=URI;X-ADDRESS=University of Arizona\, Tuc
 son\, AZ\, 85721\, United States;X-APPLE-RADIUS=100;X-TITLE=University of 
 Arizona:geo:32.2108302,-110.9523054
END:VEVENT
BEGIN:VTIMEZONE
TZID:America/Detroit
X-LIC-LOCATION:America/Detroit
BEGIN:DAYLIGHT
DTSTART:20150308T030000
TZOFFSETFROM:-0500
TZOFFSETTO:-0400
TZNAME:EDT
END:DAYLIGHT
END:VTIMEZONE
END:VCALENDAR