BEGIN:VCALENDAR
VERSION:2.0
PRODID:-//wp-events-plugin.com//7.0.5//EN
TZID:America/Detroit
X-WR-TIMEZONE:America/Detroit
BEGIN:VEVENT
UID:915@test.arabamerica.com
DTSTART;TZID=America/Detroit:20150523T190000
DTEND;TZID=America/Detroit:20150523T210000
DTSTAMP:20150406T184206Z
URL:https://test.arabamerica.com/events/eyes-of-a-thief/
SUMMARY:Eyes of a Thief
DESCRIPTION:TEXAS\n\nEyes of a Thief tells the story of Tareq\, a Palestini
 an water engineer recently released from an Israeli prison and trying to s
 earch for his missing daughter. Moving to Nablus\, where he believes his d
 aughter might be staying\, Tareq forms a father-daughter relationship with
  ten-year-old Malak\, and a tense relationship with his employer\, Adel\, 
 despite having suspicions about the kind of work he wants him to do.\n\nDa
 te &amp\; Place: Saturday\, May 23 - 7:00 PM at Rice University Media Cent
 er\nDirector: Najwa Najjar\nWriter: Najwa Najjar\nCast: Khalid Abu El-Naga
 \, Souad Massi\, Malak Ermileh\, Suhail Haddad\n\n
ATTACH;FMTTYPE=image/jpeg:https://test.arabamerica.com/wp-content/uploads/
 2015/04/10390385_1036524356361202_1225285476881327238_n.jpg
CATEGORIES:Film
LOCATION:Rice Media Center\, 6100 Main Street\, Houston\, TX\, United State
 s
GEO:29.7161208;-95.40430190000001
X-APPLE-STRUCTURED-LOCATION;VALUE=URI;X-ADDRESS=6100 Main Street\, Houston\
 , TX\, United States;X-APPLE-RADIUS=100;X-TITLE=Rice Media Center:geo:29.7
 161208,-95.40430190000001
END:VEVENT
BEGIN:VTIMEZONE
TZID:America/Detroit
X-LIC-LOCATION:America/Detroit
BEGIN:DAYLIGHT
DTSTART:20150308T030000
TZOFFSETFROM:-0500
TZOFFSETTO:-0400
TZNAME:EDT
END:DAYLIGHT
END:VTIMEZONE
END:VCALENDAR