BEGIN:VCALENDAR
VERSION:2.0
PRODID:-//wp-events-plugin.com//7.0.5//EN
TZID:America/Detroit
X-WR-TIMEZONE:America/Detroit
BEGIN:VEVENT
UID:921@test.arabamerica.com
DTSTART;TZID=America/Detroit:20150409T170000
DTEND;TZID=America/Detroit:20150409T190000
DTSTAMP:20150406T190120Z
URL:https://test.arabamerica.com/events/environmental-disparity-in-the-pal
 estinian-territories/
SUMMARY:Environmental Disparity in the Palestinian Territories
DESCRIPTION:ILLINOIS\n\nBekah Wolf has been working for Palestinian civil\,
  political and human rights for over a decade. She lived for 5 years in th
 e Hebron District village of Beit Ommar where she co-founded the Palestine
  Solidarity Project and Center for Freedom and Justice. As a law student a
 t UC Hastings\, Bekah has written extensively on Palestine and internation
 al law. She was recently a legal researcher for the Applied Research Insti
 tute-Jerusalem where she worked closely with the Water and Natural Resourc
 es Departments in producing a comprehensive report on Environmental Dispar
 ity in Palestine.\n\nWe welcome Bekah Wolf for a lecture on the environmen
 tal effects of the Israeli occupation of the Palestinian territories\, mos
 t notably water disparity and the uprooting of thousands of olive trees ov
 er the last couple of years.\n\nWHEN: April 9 at 5 PM\nWHERE: LSB 142\n\n
ATTACH;FMTTYPE=image/jpeg:https://test.arabamerica.com/wp-content/uploads/
 2015/04/11133810_770019639780875_1417597736564959775_n.jpg
CATEGORIES:Lecture,Student Group
LOCATION:Loyola University Chicago\, 1032 W Sheridan Rd\, Chicago\, IL \, 6
 0660\, United States
GEO:41.9985084;-87.65775780000001
X-APPLE-STRUCTURED-LOCATION;VALUE=URI;X-ADDRESS=1032 W Sheridan Rd\, Chicag
 o\, IL \, 60660\, United States;X-APPLE-RADIUS=100;X-TITLE=Loyola Universi
 ty Chicago:geo:41.9985084,-87.65775780000001
END:VEVENT
BEGIN:VTIMEZONE
TZID:America/Detroit
X-LIC-LOCATION:America/Detroit
BEGIN:DAYLIGHT
DTSTART:20150308T030000
TZOFFSETFROM:-0500
TZOFFSETTO:-0400
TZNAME:EDT
END:DAYLIGHT
END:VTIMEZONE
END:VCALENDAR