BEGIN:VCALENDAR
VERSION:2.0
PRODID:-//wp-events-plugin.com//7.0.5//EN
TZID:America/Detroit
X-WR-TIMEZONE:America/Detroit
BEGIN:VEVENT
UID:923@test.arabamerica.com
DTSTART;TZID=America/Detroit;VALUE=DATE:20150424
DTEND;TZID=America/Detroit;VALUE=DATE:20150427
DTSTAMP:20150406T190605Z
URL:https://test.arabamerica.com/events/enlightened-city-the-life-of-the-p
 rophet-s-after-migration/
SUMMARY:Enlightened City | The Life of the Prophet (S) After Migration
DESCRIPTION:ILLINOIS\n\nThe MCC Adult Education Committee Presents a weeken
 d seminar covering the Medinan period of the Sirah with Shaykh Samir al-Na
 ss.\n\n"There is in the Messenger of Allah an excellent example for you" (
 33:21)\n\nWe have a shining example in the Prophet ﷺ found in the studie
 s of Prophetic Biography (Seerah). In it\, we find that which illuminates 
 the hearts to the Prophetic meanings of mercy\, strength\, and wisdom. The
  Medinan period highlights the building of a society\, the canonization of
  a legal code\, and the joining of hearts between the Muhajireen and the A
 nsar. We find joyous times\, such as the Battle of Badr and Conquest of Kh
 aybar\, and grievous times such as the loss of the Prophet's ﷺ uncle Ham
 za\, the great Sa'd ibn Muadh\, and the loss of many of his beloved childr
 en (Allah be pleased with them all).\n\nJoin Dr. Samer al-Nass for a weeke
 nd study of the Enlightened City: The Life of the Prophet ﷺ after Migrat
 ion for a unique perspective on the Prophet’s ﷺ\, life in the Medinan 
 period.\n\nFriday\, April 24\, 2015 - Sunday\, April 26\, 2015\n\nTo regis
 ter\, please visit:\nhttp://chicago.shaykhsamer.com/
ATTACH;FMTTYPE=image/jpeg:https://test.arabamerica.com/wp-content/uploads/
 2015/04/11080284_10101338307817421_4918590525377017227_o.jpg
CATEGORIES:Religous
LOCATION:Mcc Full Time School\, 8601 Menard Ave\, Morton Grove\, IL\, 60053
 \, United States
GEO:42.03757299999999;-87.77087
X-APPLE-STRUCTURED-LOCATION;VALUE=URI;X-ADDRESS=8601 Menard Ave\, Morton Gr
 ove\, IL\, 60053\, United States;X-APPLE-RADIUS=100;X-TITLE=Mcc Full Time 
 School:geo:42.03757299999999,-87.77087
END:VEVENT
BEGIN:VTIMEZONE
TZID:America/Detroit
X-LIC-LOCATION:America/Detroit
BEGIN:DAYLIGHT
DTSTART:20150308T030000
TZOFFSETFROM:-0500
TZOFFSETTO:-0400
TZNAME:EDT
END:DAYLIGHT
END:VTIMEZONE
END:VCALENDAR