BEGIN:VCALENDAR
VERSION:2.0
PRODID:-//wp-events-plugin.com//7.0.5//EN
TZID:America/Detroit
X-WR-TIMEZONE:America/Detroit
BEGIN:VEVENT
UID:874@test.arabamerica.com
DTSTART;TZID=America/Detroit:20150423T180000
DTEND;TZID=America/Detroit:20150423T190000
DTSTAMP:20150403T152801Z
URL:https://test.arabamerica.com/events/edge-of-arabia-a-free-way/
SUMMARY:Edge of Arabia: A Free Way
DESCRIPTION:NEW YORK\n\nThursday\, April 23\, 2015\n6 to 7PM\n\nJudith Lee 
 Stronach Center\nSchermerhorn Hall 8th Floor\n1190 Amsterdam Ave\nNew York
 \, NY 10027\nhttp://www.columbia.edu/cu/arthistory/about/directions.html\n
 \nStephen Stapleton (Artist\, Co-Founder and Director)\, Husam Al-Sayed (F
 ilmmaker &amp\; Founder of Telfaz11) and Ava Ansari (Artist and Edge of Ar
 abia Associate Curator and US Tour Manager) will join Professor Moneera Al
 -Ghadeer (Visiting Professor\, Columbia Middle Eastern\, South Asian and A
 frican Studies) in conversation to discuss the mission and conceptual fram
 ework of Edge of Arabia's three- year tour across the United States. In 20
 13\, Edge of Arabia initiated an ongoing tour across the United States in 
 partnership with Art Jameel\, with the intention to investigate\, communic
 ate and archive alternative stories and histories connecting the Middle Ea
 st and the United States\, and to cultivate direct encounters on a grassro
 ots level across the physical and psychological borders in between and acr
 oss these regions.\n\nFor more information\, please visit Edge of Arabia's
  website athttp://edgeofarabia.com/.\n\nSponsored by the Middle East Insti
 tute and organized by Vivian Chui.\n\n
ATTACH;FMTTYPE=image/jpeg:https://test.arabamerica.com/wp-content/uploads/
 2015/04/11073913_1028292313865875_7875558667337146726_o1.jpg
CATEGORIES:Academic Lecture
LOCATION:Columbia University\, 116th St &amp\; Broadway\, New York\, NY\, 1
 0027\, United States
GEO:40.8080586;-73.96400840000001
X-APPLE-STRUCTURED-LOCATION;VALUE=URI;X-ADDRESS=116th St & Broadway\, New Y
 ork\, NY\, 10027\, United States;X-APPLE-RADIUS=100;X-TITLE=Columbia Unive
 rsity:geo:40.8080586,-73.96400840000001
END:VEVENT
BEGIN:VTIMEZONE
TZID:America/Detroit
X-LIC-LOCATION:America/Detroit
BEGIN:DAYLIGHT
DTSTART:20150308T030000
TZOFFSETFROM:-0500
TZOFFSETTO:-0400
TZNAME:EDT
END:DAYLIGHT
END:VTIMEZONE
END:VCALENDAR