BEGIN:VCALENDAR
VERSION:2.0
PRODID:-//wp-events-plugin.com//7.0.5//EN
TZID:America/Detroit
X-WR-TIMEZONE:America/Detroit
BEGIN:VEVENT
UID:955@test.arabamerica.com
DTSTART;TZID=America/Detroit;VALUE=DATE:20150414
DTEND;TZID=America/Detroit;VALUE=DATE:20150415
DTSTAMP:20150413T160047Z
URL:https://test.arabamerica.com/events/edad-2015/
SUMMARY:EDAD 2015
DESCRIPTION:MASSACHUSETTS\nOverview\n\n\nMcKinsey opened its Middle East Of
 fice in Dubai in 1999 with 5 consultants. Today\, we have nearly 280 consu
 ltants based in six locations\, Abu Dhabi\, Cairo\, Doha\, Dubai\, Ma
 nama and Riyadh– serving clients across the Middle East.\n\n&nbsp\;\n\n
 We help to shape the region by advising key institutions in key sectors in
 cluding financial services\, business technology\, education\, energy\, go
 vernment\, and infrastructure.\n\n\nDetailed Description\n\n\n\nMcKinsey w
 ould like to invite Arabic speaking students\, who are passionate about dr
 iving and shaping the future development of the GCC\, to participate in 
 Edad 2015. This program seeks to bring together students\, studying from 
 all over the US who aspire to focus on the challenges that matter.\n\n&nbs
 p\;\n\nDuring this 2 day program\, participants will get the opportunity 
 to gain hands-on experience of what it is like to be a consultant. You wi
 ll also gain insight into the way McKinsey works\, in teams\, to deliver l
 ong lasting change.\n\n&nbsp\;\n\nIf you would like to be considered for t
 his program\, please submit an online application by 11:59 PM EST on Tues
 day\, 14th April. We will be in touch by Sunday\, 19th April to let 
 you know whether you have been successful in securing a place in the progr
 am.\n\n
ATTACH;FMTTYPE=image/jpeg:https://test.arabamerica.com/wp-content/uploads/
 2015/04/11150254_834402643313639_2712297654004370105_n-1.jpg
CATEGORIES:Community
END:VEVENT
BEGIN:VTIMEZONE
TZID:America/Detroit
X-LIC-LOCATION:America/Detroit
BEGIN:DAYLIGHT
DTSTART:20150308T030000
TZOFFSETFROM:-0500
TZOFFSETTO:-0400
TZNAME:EDT
END:DAYLIGHT
END:VTIMEZONE
END:VCALENDAR