BEGIN:VCALENDAR
VERSION:2.0
PRODID:-//wp-events-plugin.com//7.0.5//EN
TZID:America/Detroit
X-WR-TIMEZONE:America/Detroit
BEGIN:VEVENT
UID:882@test.arabamerica.com
DTSTART;TZID=America/Detroit;VALUE=DATE:20150508
DTEND;TZID=America/Detroit;VALUE=DATE:20150510
DTSTAMP:20150406T151349Z
URL:https://test.arabamerica.com/events/diwan6-a-forum-for-the-arts/
SUMMARY:DIWAN6: A Forum for the Arts
DESCRIPTION:MICHIGAN\n\nWelcome to DIWAN: A Forum for the Arts! This sixth 
 installment of DIWAN commemorates the beginning of the Arab American Natio
 nal Museum’s 10th Anniversary Year. Over the past decade\, AANM has prov
 ided hundreds of artists and scholars a safe\, welcoming environment in wh
 ich to connect\, exchange ideas and document emerging trends in the creati
 on of Arab American art. Inaugurated in 2006\, DIWAN has played a pivotal 
 role in the Museum’s effort to build community through the performing an
 d visual arts. In addition to shedding light on the creative output of Ara
 b Americans\, DIWAN has fostered relationships that have led to new collab
 orations\, exhibitions and public programs. As we celebrate the AANM’s 1
 0th Anniversary\, we renew our deep commitment to supporting and presentin
 g the work of creative Arab Americans in all mediums.\n\n
ATTACH;FMTTYPE=image/jpeg:https://test.arabamerica.com/wp-content/uploads/
 2015/04/hero_index.jpg
CATEGORIES:Art/Visual
LOCATION:Arab American National Museum\, 13624 Michigan Avenue\, Dearborn \
 , MI\, 48126\, United States
GEO:42.3222224;-83.1766346
X-APPLE-STRUCTURED-LOCATION;VALUE=URI;X-ADDRESS=13624 Michigan Avenue\, Dea
 rborn \, MI\, 48126\, United States;X-APPLE-RADIUS=100;X-TITLE=Arab Americ
 an National Museum:geo:42.3222224,-83.1766346
END:VEVENT
BEGIN:VTIMEZONE
TZID:America/Detroit
X-LIC-LOCATION:America/Detroit
BEGIN:DAYLIGHT
DTSTART:20150308T030000
TZOFFSETFROM:-0500
TZOFFSETTO:-0400
TZNAME:EDT
END:DAYLIGHT
END:VTIMEZONE
END:VCALENDAR