BEGIN:VCALENDAR
VERSION:2.0
PRODID:-//wp-events-plugin.com//7.0.5//EN
TZID:America/Detroit
X-WR-TIMEZONE:America/Detroit
BEGIN:VEVENT
UID:922@test.arabamerica.com
DTSTART;TZID=America/Detroit:20150409T180000
DTEND;TZID=America/Detroit:20150409T193000
DTSTAMP:20150406T190331Z
URL:https://test.arabamerica.com/events/developing-a-culture-of-muslim-uni
 ty/
SUMMARY:Developing a Culture of Muslim Unity
DESCRIPTION:ILLINOIS\n\nYou see it everywhere. From groups and cliques with
 in college MSAs\, to racial division among the mosques in a city\, to extr
 eme nationalism -- disunity is an unfortunate reality that has come to cha
 racterize our Muslim community. Mere differences divide and fragment us\, 
 and the situation appears to be inevitable. But how does one make sense of
  that\, knowing too well that our primary goal is to be a united Ummah. Is
  that merely a dream? And one that only manifests itself during Hajj\, per
 haps?\n\nHow do we reconcile and overcome our differences and tread toward
 s a culture of Muslim unity? Join us for our SPRING LECTURE SERIES with Us
 tadh IMRAN SALHA as we explore various practical ways of utilizing our dif
 ferences to achieve love and unity at our very own campus and in our very 
 own homes.\n\n
ATTACH;FMTTYPE=image/jpeg:https://test.arabamerica.com/wp-content/uploads/
 2015/04/11061338_10206377577063572_4313422311179545567_n.jpg
CATEGORIES:Community,Religous
LOCATION:Loyola University Chicago\, 1032 W Sheridan Rd\, Chicago\, IL \, 6
 0660\, United States
GEO:41.9985084;-87.65775780000001
X-APPLE-STRUCTURED-LOCATION;VALUE=URI;X-ADDRESS=1032 W Sheridan Rd\, Chicag
 o\, IL \, 60660\, United States;X-APPLE-RADIUS=100;X-TITLE=Loyola Universi
 ty Chicago:geo:41.9985084,-87.65775780000001
END:VEVENT
BEGIN:VTIMEZONE
TZID:America/Detroit
X-LIC-LOCATION:America/Detroit
BEGIN:DAYLIGHT
DTSTART:20150308T030000
TZOFFSETFROM:-0500
TZOFFSETTO:-0400
TZNAME:EDT
END:DAYLIGHT
END:VTIMEZONE
END:VCALENDAR