BEGIN:VCALENDAR
VERSION:2.0
PRODID:-//wp-events-plugin.com//7.0.5//EN
TZID:America/Detroit
X-WR-TIMEZONE:America/Detroit
BEGIN:VEVENT
UID:886@test.arabamerica.com
DTSTART;TZID=America/Detroit:20150406T190000
DTEND;TZID=America/Detroit:20150406T213000
DTSTAMP:20150406T153252Z
URL:https://test.arabamerica.com/events/detroit-unleaded/
SUMMARY:Detroit Unleaded
DESCRIPTION:MICHIGAN\n\nCome join the Arab and Muslim American Studies depa
 rtment at the University of Michigan as they welcome filmmaker\,Rola Nashe
 f\, for a session of Q and A after the screening of Detroit Unleaded.\n\n&
 nbsp\;\n\nDetroit Unleaded is about a gas-station attendant (EJ Assi) and
  his new girlfriend (Nada Shouhayib) hang out in his tiny cubicle and try 
 to keep their relationship a secret.\n\n
ATTACH;FMTTYPE=image/jpeg:https://test.arabamerica.com/wp-content/uploads/
 2015/04/10864000_760099034085212_686279698813026529_o.jpg
CATEGORIES:Film
LOCATION:University of Michigan-Dearborn\, 4901 Evergreen Rd\, Dearborn\, M
 I\, United States
GEO:42.3216864;-83.2324137
X-APPLE-STRUCTURED-LOCATION;VALUE=URI;X-ADDRESS=4901 Evergreen Rd\, Dearbor
 n\, MI\, United States;X-APPLE-RADIUS=100;X-TITLE=University of Michigan-D
 earborn:geo:42.3216864,-83.2324137
END:VEVENT
BEGIN:VTIMEZONE
TZID:America/Detroit
X-LIC-LOCATION:America/Detroit
BEGIN:DAYLIGHT
DTSTART:20150308T030000
TZOFFSETFROM:-0500
TZOFFSETTO:-0400
TZNAME:EDT
END:DAYLIGHT
END:VTIMEZONE
END:VCALENDAR