BEGIN:VCALENDAR
VERSION:2.0
PRODID:-//wp-events-plugin.com//7.0.5//EN
TZID:America/Detroit
X-WR-TIMEZONE:America/Detroit
BEGIN:VEVENT
UID:910@test.arabamerica.com
DTSTART;TZID=America/Detroit:20150422T203000
DTEND;TZID=America/Detroit:20150422T223000
DTSTAMP:20150406T181524Z
URL:https://test.arabamerica.com/events/cpff-voice-of-condor-and-bernarda-
 alba-in-palestine/
SUMMARY:CPFF "Voice of Condor" and "Bernarda Alba in Palestine"
DESCRIPTION:ILLINOIS\n\nChicago Palestine Film Festival wants to invite yo
 u tour VIVA PALESTINA! Night.\n\nLets' explore the fun and exciting connec
 tions between the Spanish speaking world and Palestine through Film!\n\nTh
 e nights showings will be THE VOICE OF A CONDOR and BERNARDA ALBA IN PALES
 TINE.\n\n\nTHE VOICE OF A CONDOR explores the history and culture of Chile
 ’s large community of Palestinian Christians. While the Christian popula
 tion of the Holy Land has diminished to a meager 2%\, Chile has been the h
 ome to the greatest concentration of Palestinians outside of the Middle Ea
 st since the 19th century.\n\nBERNARDA ALBA IN PALESTINE\nFilmmaker Andreu
  rehearses a college production of Lorca’s “The House of Bernarda Alba
 ” with a group of Spanish language students in Bethlehem.\n\n\nEnjoy the
  Viva Palestine reception in our gallery/café after the show!\n\nCPFF is 
 a 501-c3 not for profit organization dedicated to telling the stories of t
 he Palestinian people and promoting social justice and community.\n\n
ATTACH;FMTTYPE=image/jpeg:https://test.arabamerica.com/wp-content/uploads/
 2015/04/bernardaalba.jpg
CATEGORIES:Film
LOCATION:Gene Siskel Film Center of the School of the Art Institute of Chic
 ago\, 164 N State St\, Chicago\, IL\, 60601\, United States
GEO:41.884861;-87.628309
X-APPLE-STRUCTURED-LOCATION;VALUE=URI;X-ADDRESS=164 N State St\, Chicago\, 
 IL\, 60601\, United States;X-APPLE-RADIUS=100;X-TITLE=Gene Siskel Film Cen
 ter of the School of the Art Institute of Chicago:geo:41.884861,-87.628309
END:VEVENT
BEGIN:VTIMEZONE
TZID:America/Detroit
X-LIC-LOCATION:America/Detroit
BEGIN:DAYLIGHT
DTSTART:20150308T030000
TZOFFSETFROM:-0500
TZOFFSETTO:-0400
TZNAME:EDT
END:DAYLIGHT
END:VTIMEZONE
END:VCALENDAR