BEGIN:VCALENDAR
VERSION:2.0
PRODID:-//wp-events-plugin.com//7.0.5//EN
TZID:America/Detroit
X-WR-TIMEZONE:America/Detroit
BEGIN:VEVENT
UID:912@test.arabamerica.com
DTSTART;TZID=America/Detroit:20150428T194500
DTEND;TZID=America/Detroit:20150428T214500
DTSTAMP:20150406T182317Z
URL:https://test.arabamerica.com/events/cpff-presents-the-wanted-18-and-mi
 rror-image/
SUMMARY:CPFF presents "The Wanted 18" and "Mirror Image"
DESCRIPTION:ILLINOIS\n\nJoin Chicago Palestine Film Festival as we celebr
 ate Palestinians in Film or the 14th year in a row!\n\nWe would like to pr
 esent critically acclaimed film The Wanted 18 and MIRROR IMAGE.\n\nTHE W
 ANTED 18\nTrailer - https://www.youtube.com/watch?v=hlKZ8daLtOo\n\nA smal
 l town’s bravely rebellious standoff in the time of the first intifada b
 ecomes a tragicomic caper in the retelling\, with four gossipy animated co
 ws as the heroines. Neophyte dairy farmers in the West Bank town of Beit S
 ahour make a bid for self sufficiency by buying eighteen cows\, which are 
 promptly declared a threat to Israeli national security. Absurdity and bla
 ck comedy are the threads running through this story narrated by actual pa
 rticipants and punctuated by engaging live-action and animated reenactment
 s.\n\nMIRROR IMAGE\nThe filmmaker and her Israeli grandparents disagree ov
 er the meaning of a purloined heirloom.\n\nJoin us for a panel discussion 
 after the film!\nSuhad Babaa\, Executive Director of Just Vision\, which i
 s releasing the film in partnership with Intuitive Pictures and Kino Lorbe
 r\, will be there to share her input and answer questions after the film.\
 n\nCPFF is a 501-c3 not for profit organization dedicated to telling the s
 tories of the Palestinian people and promoting social justice and communit
 y.\n\n
ATTACH;FMTTYPE=image/jpeg:https://test.arabamerica.com/wp-content/uploads/
 2015/04/images-3.jpeg
CATEGORIES:Film
LOCATION:Gene Siskel Film Center of the School of the Art Institute of Chic
 ago\, 164 N State St\, Chicago\, IL\, 60601\, United States
GEO:41.884861;-87.628309
X-APPLE-STRUCTURED-LOCATION;VALUE=URI;X-ADDRESS=164 N State St\, Chicago\, 
 IL\, 60601\, United States;X-APPLE-RADIUS=100;X-TITLE=Gene Siskel Film Cen
 ter of the School of the Art Institute of Chicago:geo:41.884861,-87.628309
END:VEVENT
BEGIN:VTIMEZONE
TZID:America/Detroit
X-LIC-LOCATION:America/Detroit
BEGIN:DAYLIGHT
DTSTART:20150308T030000
TZOFFSETFROM:-0500
TZOFFSETTO:-0400
TZNAME:EDT
END:DAYLIGHT
END:VTIMEZONE
END:VCALENDAR