BEGIN:VCALENDAR
VERSION:2.0
PRODID:-//wp-events-plugin.com//7.0.5//EN
TZID:America/Detroit
X-WR-TIMEZONE:America/Detroit
BEGIN:VEVENT
UID:891@test.arabamerica.com
DTSTART;TZID=America/Detroit:20150409T160000
DTEND;TZID=America/Detroit:20150409T190000
DTSTAMP:20150406T160637Z
URL:https://test.arabamerica.com/events/conducting-business-in-an-unsafe-w
 orld-isil-cybersecurity-and-militarism/
SUMMARY:Conducting Business in an Unsafe World : ISIL\, Cybersecurity\, and
  Militarism
DESCRIPTION:DISTRICT OF COLUMBIA\nThursday\, April 9\, 4 p.m.\nFisher Collo
 quium\nRafik B. Hariri Building\nGeorgetown McDonough’s Business\, Socie
 ty\, and Public Policy Initiative is pleased to present the Rafik B. Harir
 i Symposium. The symposium will offer an opportunity to focus on one of th
 e most compelling global issues of business today – conducting business 
 in an unsafe world.\nRegister Here to Attend\nFeatured panelists include:\
 n\n	The Honorable Tom Daschle\, former majority leader of the U.S. Senate\
 n	The Honorable Robert Mosbacher\, Jr.\, chairman of Mosbacher Energy Comp
 any and past president and CEO of the Overseas Private Investment Corporat
 ion\n	The Honorable Ann Veneman\, former secretary of the U.S. Department 
 of Agriculture and former executive director of the United Nations Childre
 n’s Fund (UNICEF)\n\nReception to follow.\n\nTo submit a question in adv
 ance to the panelists\, please click here. Accommodation requests related
  to a disability should be made by Thursday\, April 2\, to msbevents@geor
 getown.edu. A good faith effort will be made to fulfill requests made afte
 r Thursday\, April 2. For media inquiries\, please contact Teresa Mannix\
 , Assistant Dean for Communications\, at Teresa.Mannix@georgetown.edu or
  202-687-4080.\n\n
ATTACH;FMTTYPE=image/jpeg:https://test.arabamerica.com/wp-content/uploads/
 2015/04/image003-1.jpg
CATEGORIES:Academic Lecture,Symposium
LOCATION:Georgetown University\, 37th and O Streets\, N.W.\, Washington\, D
 C\, United States
GEO:38.9141355;-77.07275249999998
X-APPLE-STRUCTURED-LOCATION;VALUE=URI;X-ADDRESS=37th and O Streets\, N.W.\,
  Washington\, DC\, United States;X-APPLE-RADIUS=100;X-TITLE=Georgetown Uni
 versity:geo:38.9141355,-77.07275249999998
END:VEVENT
BEGIN:VTIMEZONE
TZID:America/Detroit
X-LIC-LOCATION:America/Detroit
BEGIN:DAYLIGHT
DTSTART:20150308T030000
TZOFFSETFROM:-0500
TZOFFSETTO:-0400
TZNAME:EDT
END:DAYLIGHT
END:VTIMEZONE
END:VCALENDAR