BEGIN:VCALENDAR
VERSION:2.0
PRODID:-//wp-events-plugin.com//7.0.5//EN
TZID:America/Detroit
X-WR-TIMEZONE:America/Detroit
BEGIN:VEVENT
UID:585@test.arabamerica.com
DTSTART;TZID=America/Detroit:20150423T180000
DTEND;TZID=America/Detroit:20150423T203000
DTSTAMP:20150304T193709Z
URL:https://test.arabamerica.com/events/capturing-the-arab-spring-and-its-
 aftermath/
SUMMARY:Capturing the Arab Spring and its Aftermath
DESCRIPTION:ARIZONA\n\nFilming Through A Revolution: Capturing the Arab Spr
 ing and its Aftermath:\nWorking as a journalist and videographer based in 
 Cairo there was no sense of the events about to take place in Egypt. Even 
 up until hours prior to the scheduled protests on January 25\, 2011 the ac
 tivists had unclear expectations. I captured the events from behind my cam
 era as they unfolded in Egypt\, and once they ousted their dictator I trav
 eled across the border into the unknown world of Gaddafi's Libya\, where t
 he uprising quickly turned into a bloody war. Staying on the ground for th
 e majority of the eight month conflict I had the privilege of living with 
 Libyan civilians and soldiers across the country\, truly experiencing firs
 thand the outrage\, sadness\, confusion\, and raw moments of war.\n\nFirst
  to Fall screening and Director talk:\nAn intimate tale of friendship and 
 revolution\, this coming of age story documents the journey of two young f
 riends\, Hamid (26) and Tarek (21)\, who abandon their peaceful lives as s
 tudents in Canada to join an unconventional war in their homeland of Libya
 .\n\nhttp://cmes.arizona.edu/film/anderson\n\n
ATTACH;FMTTYPE=image/jpeg:https://test.arabamerica.com/wp-content/uploads/
 2015/03/andersonr.jpg
CATEGORIES:Community,Film
LOCATION:University of Arizona\, University of Arizona\, Tucson\, AZ\, 8572
 1\, United States
GEO:32.2108302;-110.9523054
X-APPLE-STRUCTURED-LOCATION;VALUE=URI;X-ADDRESS=University of Arizona\, Tuc
 son\, AZ\, 85721\, United States;X-APPLE-RADIUS=100;X-TITLE=University of 
 Arizona:geo:32.2108302,-110.9523054
END:VEVENT
BEGIN:VTIMEZONE
TZID:America/Detroit
X-LIC-LOCATION:America/Detroit
BEGIN:DAYLIGHT
DTSTART:20150308T030000
TZOFFSETFROM:-0500
TZOFFSETTO:-0400
TZNAME:EDT
END:DAYLIGHT
END:VTIMEZONE
END:VCALENDAR