BEGIN:VCALENDAR
VERSION:2.0
PRODID:-//wp-events-plugin.com//7.0.5//EN
TZID:America/Detroit
X-WR-TIMEZONE:America/Detroit
BEGIN:VEVENT
UID:950@test.arabamerica.com
DTSTART;TZID=America/Detroit:20150508T183000
DTEND;TZID=America/Detroit:20150508T203000
DTSTAMP:20150413T153403Z
URL:https://test.arabamerica.com/events/building-hope-in-the-holy-land/
SUMMARY:"Building Hope in the Holy Land"
DESCRIPTION:GEORGIA\n\n\n\n\n\nSAVE THE DATE \nan  \nevening with AFEDJ\
 n and\nBrother Andrew de Carpentier\nat Trinity Presbyterian Church\n"Bui
 lding Hope in the Holy Land"\n\n\n\n\n\n\n\n\n\n\n\n\n\n\n\n\n\n\n\n\n\n\n
 \n\n\n\n\n\n\n\n\nWho? \n\nThe American Friends of the Episcopal Diocese 
 of Jerusalem invite you to learn more about life in the Holy Land today. B
 rother Andrew de Carpentier\, Director of the Holy Land Institute for the 
 Deaf in Jordan\, will talk about their ground breaking work with the deaf 
 and deaf blind in a volatile place. Anne Lynn\, President\, AFEDJ will sha
 re the many education and healing ministries of the Diocese of Jerusalem. 
  All are welcome.\n\n\n\n\n
ATTACH;FMTTYPE=image/jpeg:https://test.arabamerica.com/wp-content/uploads/
 2015/04/ImageProxy-17.mvc_.jpeg
CATEGORIES:Academic Lecture
LOCATION:Trinity Presbyterian Church\, 3003 Howell Mill Rd\, Atlanta\, GA\,
  30327\, United States
GEO:33.8373068;-84.42016130000002
X-APPLE-STRUCTURED-LOCATION;VALUE=URI;X-ADDRESS=3003 Howell Mill Rd\, Atlan
 ta\, GA\, 30327\, United States;X-APPLE-RADIUS=100;X-TITLE=Trinity Presbyt
 erian Church:geo:33.8373068,-84.42016130000002
END:VEVENT
BEGIN:VTIMEZONE
TZID:America/Detroit
X-LIC-LOCATION:America/Detroit
BEGIN:DAYLIGHT
DTSTART:20150308T030000
TZOFFSETFROM:-0500
TZOFFSETTO:-0400
TZNAME:EDT
END:DAYLIGHT
END:VTIMEZONE
END:VCALENDAR