BEGIN:VCALENDAR
VERSION:2.0
PRODID:-//wp-events-plugin.com//7.0.5//EN
TZID:America/Detroit
X-WR-TIMEZONE:America/Detroit
BEGIN:VEVENT
UID:250@test.arabamerica.com
DTSTART;TZID=America/Detroit:20150401T190000
DTEND;TZID=America/Detroit:20150401T210000
DTSTAMP:20150128T231917Z
URL:https://test.arabamerica.com/events/brides-side/
SUMMARY:“On the Bride’s Side”
DESCRIPTION:The Italian Studies department presents a special screening of 
 “On the Bride’s Side” (Italy/Palestine\, 1989)\, written and directe
 d by Antonio Augugliaro\, Gabriele Del Grande\, Khaled Soliman Al Nassiry
  and recently released at the Venice Film festival. The screening\, promo
 ted by Nicola Perugini\,  is scheduled for April 1\, 2015 in Martinos Aud
 itorium and will be introduced/followed by a conversation with one of the 
 directors\, Gabriele Del Grande.\n\n
ATTACH;FMTTYPE=image/jpeg:https://test.arabamerica.com/wp-content/uploads/
 2015/01/Unknown2.jpg
CATEGORIES:Film
LOCATION:Granoff Center\, 154 Angell Street\, Providence\, RI\, 02906\, Uni
 ted States
GEO:41.8280506;-71.4013347
X-APPLE-STRUCTURED-LOCATION;VALUE=URI;X-ADDRESS=154 Angell Street\, Provide
 nce\, RI\, 02906\, United States;X-APPLE-RADIUS=100;X-TITLE=Granoff Center
 :geo:41.8280506,-71.4013347
END:VEVENT
BEGIN:VTIMEZONE
TZID:America/Detroit
X-LIC-LOCATION:America/Detroit
BEGIN:DAYLIGHT
DTSTART:20150308T030000
TZOFFSETFROM:-0500
TZOFFSETTO:-0400
TZNAME:EDT
END:DAYLIGHT
END:VTIMEZONE
END:VCALENDAR