BEGIN:VCALENDAR
VERSION:2.0
PRODID:-//wp-events-plugin.com//7.0.5//EN
TZID:America/Detroit
X-WR-TIMEZONE:America/Detroit
BEGIN:VEVENT
UID:939@test.arabamerica.com
DTSTART;TZID=America/Detroit:20150410T210000
DTEND;TZID=America/Detroit:20150410T233000
DTSTAMP:20150408T170009Z
URL:https://test.arabamerica.com/events/ayman-khatib/
SUMMARY:Ayman Khatib
DESCRIPTION:TEXAS\n\nShisha Express Presents this FRIDAY APRIL 10th Houston
  Star AYMAN KHATIB With his band YEHIYA and ORGANIST OMAR Dont miss it par
 ty Start at 09:00\n\n
ATTACH;FMTTYPE=image/jpeg:https://test.arabamerica.com/wp-content/uploads/
 2015/04/11149278_839341839470508_6590040892633522532_n.jpg
CATEGORIES:Community,Dance/Folk,Music/Folk/World
LOCATION:Shisha Express Hookah Lounge\, 9511 Westheimer Rd\, Houston\, TX\,
  United States
GEO:29.7371613;-95.53238190000002
X-APPLE-STRUCTURED-LOCATION;VALUE=URI;X-ADDRESS=9511 Westheimer Rd\, Housto
 n\, TX\, United States;X-APPLE-RADIUS=100;X-TITLE=Shisha Express Hookah Lo
 unge:geo:29.7371613,-95.53238190000002
END:VEVENT
BEGIN:VTIMEZONE
TZID:America/Detroit
X-LIC-LOCATION:America/Detroit
BEGIN:DAYLIGHT
DTSTART:20150308T030000
TZOFFSETFROM:-0500
TZOFFSETTO:-0400
TZNAME:EDT
END:DAYLIGHT
END:VTIMEZONE
END:VCALENDAR