BEGIN:VCALENDAR
VERSION:2.0
PRODID:-//wp-events-plugin.com//7.0.5//EN
TZID:America/Detroit
X-WR-TIMEZONE:America/Detroit
BEGIN:VEVENT
UID:927@test.arabamerica.com
DTSTART;TZID=America/Detroit:20150408T093000
DTEND;TZID=America/Detroit:20150408T120000
DTSTAMP:20150408T031056Z
URL:https://test.arabamerica.com/events/assessing-the-iran-nuclear-deal-is
 sues-and-implications/
SUMMARY:Assessing the Iran Nuclear Deal: Issues and Implications
DESCRIPTION:DISTRICT OF COLUMBIA\n\nFeatured Specialists:\n\nDr. John Duke 
 Anthony\nFounding President and CEO\, National Council on U.S.-Arab Relati
 ons\; Member\, U.S. Department of State Advisory Committee on Internationa
 l Economic Policy and Subcommittee on Sanctions\; Author\,"Strategic Dynam
 ics of Iran-GCC Relations"\n\nH.E. Ambassador Seyed Hossein Mousavian\nAss
 ociate Research Scholar\, Woodrow Wilson School of Public and Internationa
 l Affairs\, Princeton University\; former Spokesman for Iran in nuclear ne
 gotiations with the European Union\; Author\, Iran and the United States:
  An Insider's View on the Failed Past and the Road to Peace\n\nDr. Thomas 
 Mattair\nExecutive Director\, Middle East Policy Council\; Author\, The T
 hree Occupied UAE Islands: The Tunbs and Abu Musa and Global Security Wa
 tch – Iran: A Reference Handbook\n\nDr. Kenneth Katzman\nSpecialist in M
 iddle East Affairs in the Foreign Affairs\, Defense\, and Trade Division\,
  Congressional Research Service\, Library of Congress\; Author\, CRS Repor
 t on "Iran: U.S. Concerns and Policy Responses"\n\nDr. Imad Harb\nDisting
 uished International Affairs Fellow\, National Council on U.S.-Arab Relati
 ons\; former Senior Researcher in Strategic Studies\, Emirates Center for 
 Strategic Studies and Research\, Abu Dhabi\, United Arab Emirates\n\nDr. P
 aul Sullivan\nSenior International Affairs Fellow\, National Council on U.
 S.-Arab Relations\; Professor of Economics\, National Defense University\;
  Adjunct Senior Fellow for Future Global Resource Threats\, Federation of 
 American Scientists\n\nModerator:\n\nMr. John Pratt\nMember\, Board of Dir
 ectors\, and Distinguished International Affairs Fellow\, National Council
  on U.S.-Arab Relations\; former Chairman\, Middle East Council of the Ame
 rican Chambers of Commerce\n\n\nR.S.V.P. (Acceptances Only) via email toRS
 VP@ncusar.org
ATTACH;FMTTYPE=image/jpeg:https://test.arabamerica.com/wp-content/uploads/
 2015/04/1dd75d2d-d690-4f45-93f4-3e6863dba39a.jpg
CATEGORIES:Academic Lecture
LOCATION:Rayburn House Office Building Gold Room (2168)\, 45 Independence A
 ve SW\, Washington\, dc\, 20515\, United States
GEO:38.8875857;-77.00758739999998
X-APPLE-STRUCTURED-LOCATION;VALUE=URI;X-ADDRESS=45 Independence Ave SW\, Wa
 shington\, dc\, 20515\, United States;X-APPLE-RADIUS=100;X-TITLE=Rayburn H
 ouse Office Building Gold Room (2168):geo:38.8875857,-77.00758739999998
END:VEVENT
BEGIN:VTIMEZONE
TZID:America/Detroit
X-LIC-LOCATION:America/Detroit
BEGIN:DAYLIGHT
DTSTART:20150308T030000
TZOFFSETFROM:-0500
TZOFFSETTO:-0400
TZNAME:EDT
END:DAYLIGHT
END:VTIMEZONE
END:VCALENDAR