BEGIN:VCALENDAR
VERSION:2.0
PRODID:-//wp-events-plugin.com//7.0.5//EN
TZID:America/Detroit
X-WR-TIMEZONE:America/Detroit
BEGIN:VEVENT
UID:879@test.arabamerica.com
DTSTART;TZID=America/Detroit:20150426T160000
DTEND;TZID=America/Detroit:20150426T183000
DTSTAMP:20150406T145958Z
URL:https://test.arabamerica.com/events/arabic-art-film-night/
SUMMARY:Arabic Art &Film Night
DESCRIPTION:MICHIGAN\n\nArabic Art &amp\; Film Night\n\nThe Arab American H
 eritage Council (AAHC) will host an afternoon of laughter and art\, starti
 ng with a cocktail hour featuring Arabic foods. The event is scheduled for
  Sunday\, April 26th and will begin with a performance by comedian Amer Za
 hr\, followed by a screening of his new documentary "We're Not White." The
  film takes a comedic and informative approach to the Arab-American strugg
 le to get a box on the United States Census Form. The event ends with a sl
 am poetry performance by the RAISE IT UP! Youth Poetry Team.\n
ATTACH;FMTTYPE=image/jpeg:https://test.arabamerica.com/wp-content/uploads/
 2015/04/ImageProxy-14.mvc_.jpeg
CATEGORIES:Art/Visual,Film
LOCATION:The Flint Institute of Arts\, 1120 E. Kearsley St.\, Flint\, MI\, 
 United States
GEO:43.0224995;-83.67792629999997
X-APPLE-STRUCTURED-LOCATION;VALUE=URI;X-ADDRESS=1120 E. Kearsley St.\, Flin
 t\, MI\, United States;X-APPLE-RADIUS=100;X-TITLE=The Flint Institute of A
 rts:geo:43.0224995,-83.67792629999997
END:VEVENT
BEGIN:VTIMEZONE
TZID:America/Detroit
X-LIC-LOCATION:America/Detroit
BEGIN:DAYLIGHT
DTSTART:20150308T030000
TZOFFSETFROM:-0500
TZOFFSETTO:-0400
TZNAME:EDT
END:DAYLIGHT
END:VTIMEZONE
END:VCALENDAR