BEGIN:VCALENDAR
VERSION:2.0
PRODID:-//wp-events-plugin.com//7.0.5//EN
TZID:America/Detroit
X-WR-TIMEZONE:America/Detroit
BEGIN:VEVENT
UID:591@test.arabamerica.com
DTSTART;TZID=America/Detroit:20150321T080000
DTEND;TZID=America/Detroit:20150321T200000
DTSTAMP:20150318T055034Z
URL:https://test.arabamerica.com/events/arab-latin-music-with-al-bustan-ta
 kht-ensemble/
SUMMARY:Wharton MENA Conference 2015
DESCRIPTION:PENNSYLVANIA\n\nWe are pleased to announce the 4th Wharton Midd
 le East and North Africa Conference scheduled on March 21\, 2015\, at our 
 campus in Philadelphia.\n\nThrough this year’s theme\, “From MENA to t
 he World\,” the Wharton MENA Conference will provide a platform for shar
 ing the stories of MENA leaders\, investors and entrepreneurs who are asse
 rting the region’s presence in the global economy.\n\nWe look forward to
  seeing you.\n\nThe Wharton MENA Conference Organization Committee\n\nAgen
 da\n\n\n\n8:30 AM – 9:00 AM\nRegistration and Breakfast\n\n\n9:00 AM –
  9:45 AM\nOpening Keynote Address\nJoe Saddi\nSenior Partner and Chairman\
 , Middle East\, Strategy&amp\;\, formerly Booz &amp\; Company\n\n\n10:00 A
 M – 11:15 AM\nPanel\nPrivate Equity\nPanel\nYouth and Employment\n\n\n11
 :30 AM – 12:15 PM\nMorning Keynote Address\nDr. Saad Al Barrak\nFormer C
 EO\, Zain Group / Founder and Chairman\, ILA Group\n\n\n12:30 PM – 1:30 
 PM\nLunch\n\n\n1:45 PM – 2:45 PM\nAfternoon Keynote Address\nMohammed Ab
 dul Aziz Alshaya\nExecutive Chairman\, M.H. Alshaya Co.\n\n\n3:00 PM – 4
 :15 PM\nPanel\nReal Estate\nPanel\nHealthcare\nPanel\nEntrepreneurship\n\n
 \n4:30 PM – 5:15 PM\nClosing Keynote Address\nShehab Mohamed Gargash\nFo
 under and Managing Director\, Daman Investments\n\n\n5:30 PM – 7:30 PM\n
 Networking Reception\n\n\n\n\n\n\n8:00 PM – 10:00 PM\nConcert: Arab and 
 Latin Music\nCo-presented with Al-Bustan Seeds of Culture (additional tick
 et required)\n\n\n\n\n\nKeynotes\n\nJoe Saddi\nSenior Partner and Chairman
  Middle East\nStrategy&amp\;\, formerly Booz &amp\; Company\n\nMohammed Ab
 dul Aziz Alshaya\nExecutive Chairman\nM.H. Alshaya Co.\n\nDr. Saad Al Barr
 ak\nFormer CEO\, Zain Group\nFounder and Chairman\, ILA Group\n\nShehab Mo
 hamed Gargash\nFounder and Managing Director\nDaman Investments\n\n\n\nSpo
 nsors\n\nConference Strategic Partner\n\n\n\n\nPlatinum Sponsors\n \n\n\n\
 nSilver Sponsor\n\n\n\nRegistration Options\n\n\n\n\nTICKETS\nSALES END\nA
 VAILABILITY\nPRICE\nQUANTITY\n\n\n*Early Bird* Student Ticket - Conference
 \n(Please register using your school email address) \n8 Mar\n11:55pm\nUnli
 mited\n$20\n\n\n\n*Early Bird* Student Ticket - Conference + Concert\n(Ple
 ase register using your school email address) \n8 Mar\n11:55pm\nUnlimited\
 n$28\n\n\n\n*Early Bird* Professional Ticket - Conference\n\n8 Mar\n11:55p
 m\nUnlimited\n$35\n\n\n\n*Early Bird* Professional Ticket - Conference + C
 oncert\n\n8 Mar\n11:55pm\nUnlimited\n$45\n\n\n\nStudent Ticket - Conferenc
 e\n(Please register using your school email address) \n22 Mar\n12:00am\nUn
 limited\n$30\n\n\n\nStudent Ticket - Conference + Concert\n(Please registe
 r using your school email address) \n22 Mar\n12:00am\nUnlimited\n$38\n\n\n
 \nProfessional Ticket - Conference\n\n22 Mar\n12:00am\nUnlimited\n$55\n\n\
 n\nProfessional Ticket - Conference + Concert\n\n22 Mar\n12:00am\nUnlimite
 d\n$65\n\n\n\n\n\n&nbsp\;\n\n&nbsp\;\n\n\n
ATTACH;FMTTYPE=image/jpeg:https://test.arabamerica.com/wp-content/uploads/
 2015/03/Screen-Shot-2015-03-18-at-1.38.01-AM.png
CATEGORIES:Community,Music/Folk/World
LOCATION:Huntsman Hall\, The Wharton School - University of Pennsylvania \
 , 3730 Walnut Street\, Philadelphia \, PA\, United States
GEO:39.9531748;-75.19824030000001
X-APPLE-STRUCTURED-LOCATION;VALUE=URI;X-ADDRESS=3730 Walnut Street\, Philad
 elphia \, PA\, United States;X-APPLE-RADIUS=100;X-TITLE=Huntsman Hall\, Th
 e Wharton School - University of Pennsylvania :geo:39.9531748,-75.1982403
 0000001
END:VEVENT
BEGIN:VTIMEZONE
TZID:America/Detroit
X-LIC-LOCATION:America/Detroit
BEGIN:DAYLIGHT
DTSTART:20150308T030000
TZOFFSETFROM:-0500
TZOFFSETTO:-0400
TZNAME:EDT
END:DAYLIGHT
END:VTIMEZONE
END:VCALENDAR