BEGIN:VCALENDAR
VERSION:2.0
PRODID:-//wp-events-plugin.com//7.0.5//EN
TZID:America/Detroit
X-WR-TIMEZONE:America/Detroit
BEGIN:VEVENT
UID:892@test.arabamerica.com
DTSTART;TZID=America/Detroit;VALUE=DATE:20150606
DTEND;TZID=America/Detroit;VALUE=DATE:20150608
DTSTAMP:20150406T163706Z
URL:https://test.arabamerica.com/events/arab-fest/
SUMMARY:Arab Fest
DESCRIPTION:INDIANA\n\nArab Americans have richly enhanced Fort Wayne and A
 llen County since their arrival in the mid-1800’s\, more than 150 years.
  They are doctors\, lawyers\, business entrepreneurs\, professors and teac
 hers\, restauranteurs\, and industrious workers of various kinds. They com
 e from the 22 Arab countries\, from Syria\, Palestine\, the Gulf\, North A
 frica\, and Levant. They are Christians and Muslims and other people of go
 od will. They number in the thousands.\n\nWe believe Arab culture is a tre
 asure invisible to most people in the West. To celebrate the richness of A
 rab culture\, heritage\, and hospitality\, Indiana Center for Middle East 
 Peace hosts Fort Wayne’s first annual ArabFest\, Saturday-Sunday\, June 
 6-7\, Headwaters Park\, Rothschild Pavilion.\n\nArabFest is open to the en
 tire Fort Wayne and Allen County community and beyond to enjoy a beautiful
  day together. Family- and children-friendly.\n\nSATURDAY\, JUNE 6 6:00-10
 :30pm\nSUNDAY\, JUNE 7 12:00-6:00pm\nMouth-watering Arab food\, delicacies
 \, &amp\; sweets Arab coffee\, tea\nLive Debka (traditional dance) &amp\; 
 workshops\; musical performances\nFace-painting Children’s activities Fa
 iry tales &amp\; Storytelling\nCamel Rides Henna Calligraphy Souq (Market)
 \nTraditional Arab fashion display Information booths &amp\; exhibits\n\nS
 ATURDAY NIGHT\, JUNE 6 9:15-10:30pm\, after dark\, outside\nFilm celebrati
 ng Arab culture\nBring a lawn chair or blanket
ATTACH;FMTTYPE=image/jpeg:https://test.arabamerica.com/wp-content/uploads/
 2015/04/10612823_10153260158942150_6101433320078494796_n.jpg
CATEGORIES:Community,Festivals
LOCATION:Headwaters Park\, 330 S Clinton St\, Fort Wayne\, IN\, 46802\, Uni
 ted States
GEO:41.0840249;-85.14010100000002
X-APPLE-STRUCTURED-LOCATION;VALUE=URI;X-ADDRESS=330 S Clinton St\, Fort Way
 ne\, IN\, 46802\, United States;X-APPLE-RADIUS=100;X-TITLE=Headwaters Park
 :geo:41.0840249,-85.14010100000002
END:VEVENT
BEGIN:VTIMEZONE
TZID:America/Detroit
X-LIC-LOCATION:America/Detroit
BEGIN:DAYLIGHT
DTSTART:20150308T030000
TZOFFSETFROM:-0500
TZOFFSETTO:-0400
TZNAME:EDT
END:DAYLIGHT
END:VTIMEZONE
END:VCALENDAR