BEGIN:VCALENDAR
VERSION:2.0
PRODID:-//wp-events-plugin.com//7.0.5//EN
TZID:America/Detroit
X-WR-TIMEZONE:America/Detroit
BEGIN:VEVENT
UID:929@test.arabamerica.com
DTSTART;TZID=America/Detroit:20150423T183000
DTEND;TZID=America/Detroit:20150423T210000
DTSTAMP:20150408T162310Z
URL:https://test.arabamerica.com/events/arab-american-news-30th-anniversar
 y-dinner/
SUMMARY:Arab American News: 30th Anniversary Dinner
DESCRIPTION:MICHIGAN\n\nJoin the Celebration!\n\n
ATTACH;FMTTYPE=image/jpeg:https://test.arabamerica.com/wp-content/uploads/
 2015/04/11096685_10205691492979763_305670829963923181_n1.jpg
CATEGORIES:Community
LOCATION:Bint Jebail Cultural Center\, 6220 Miller Rd\, Dearborn\, MI\, 481
 26\, United States
GEO:42.3362394;-83.16611109999997
X-APPLE-STRUCTURED-LOCATION;VALUE=URI;X-ADDRESS=6220 Miller Rd\, Dearborn\,
  MI\, 48126\, United States;X-APPLE-RADIUS=100;X-TITLE=Bint Jebail Cultura
 l Center:geo:42.3362394,-83.16611109999997
END:VEVENT
BEGIN:VTIMEZONE
TZID:America/Detroit
X-LIC-LOCATION:America/Detroit
BEGIN:DAYLIGHT
DTSTART:20150308T030000
TZOFFSETFROM:-0500
TZOFFSETTO:-0400
TZNAME:EDT
END:DAYLIGHT
END:VTIMEZONE
END:VCALENDAR