BEGIN:VCALENDAR
VERSION:2.0
PRODID:-//wp-events-plugin.com//7.0.5//EN
TZID:America/Detroit
X-WR-TIMEZONE:America/Detroit
BEGIN:VEVENT
UID:954@test.arabamerica.com
DTSTART;TZID=America/Detroit:20150420T174500
DTEND;TZID=America/Detroit:20150420T194500
DTSTAMP:20150419T132418Z
URL:https://test.arabamerica.com/events/arab-american-heritage-celebration
 /
SUMMARY:Arab American Heritage Celebration
DESCRIPTION:MARYLAND\n\nMonday\, April 20\, 2015 5:45 - 7:15 p.m.\n\nActivi
 ty Center at Bohrer Park\n\n506 S. Frederick Ave.\, Gaithersburg\n\n	Ara
 b American Achievers in science\, entertainment\, sports    and journal
 ism will be highlighted in student presentations\n	Performances of dance\,
  music and song and displays     of art and calligraphy\n	Light refres
 hments\n
ATTACH;FMTTYPE=image/jpeg:https://test.arabamerica.com/wp-content/uploads/
 2015/04/Untitled-43.jpg
CATEGORIES:Community,Dance/Folk,Music/Folk/World
LOCATION:Activity Center at Bohrer Park\, 506 S Frederick Ave\, Gaithersbur
 g\, MD\, United States
GEO:39.132955;-77.19304549999998
X-APPLE-STRUCTURED-LOCATION;VALUE=URI;X-ADDRESS=506 S Frederick Ave\, Gaith
 ersburg\, MD\, United States;X-APPLE-RADIUS=100;X-TITLE=Activity Center at
  Bohrer Park:geo:39.132955,-77.19304549999998
END:VEVENT
BEGIN:VTIMEZONE
TZID:America/Detroit
X-LIC-LOCATION:America/Detroit
BEGIN:DAYLIGHT
DTSTART:20150308T030000
TZOFFSETFROM:-0500
TZOFFSETTO:-0400
TZNAME:EDT
END:DAYLIGHT
END:VTIMEZONE
END:VCALENDAR