BEGIN:VCALENDAR
VERSION:2.0
PRODID:-//wp-events-plugin.com//7.0.5//EN
TZID:America/Detroit
X-WR-TIMEZONE:America/Detroit
BEGIN:VEVENT
UID:952@test.arabamerica.com
DTSTART;TZID=America/Detroit;VALUE=DATE:20150516
DTEND;TZID=America/Detroit;VALUE=DATE:20150517
DTSTAMP:20150413T154259Z
URL:https://test.arabamerica.com/events/annual-commemoration-of-al-nakba/
SUMMARY:Annual Commemoration of Al Nakba
DESCRIPTION:ILLINOIS\n\nRefreshments will be served:\n\nA panel discussion 
 on current relevant issues with the following guest speakers: Dahlia Wasfi
  and Ghada Talhami
ATTACH;FMTTYPE=image/jpeg:https://test.arabamerica.com/wp-content/uploads/
 2015/04/ImageProxy-19.mvc_.jpeg
CATEGORIES:Academic Lecture,Conference/Convention
LOCATION:Palestinian American Community Center\, 6000 W 79th St\, Burbank\,
  IL\, 60459\, United States
GEO:41.7489815;-87.77093810000002
X-APPLE-STRUCTURED-LOCATION;VALUE=URI;X-ADDRESS=6000 W 79th St\, Burbank\, 
 IL\, 60459\, United States;X-APPLE-RADIUS=100;X-TITLE=Palestinian American
  Community Center:geo:41.7489815,-87.77093810000002
END:VEVENT
BEGIN:VTIMEZONE
TZID:America/Detroit
X-LIC-LOCATION:America/Detroit
BEGIN:DAYLIGHT
DTSTART:20150308T030000
TZOFFSETFROM:-0500
TZOFFSETTO:-0400
TZNAME:EDT
END:DAYLIGHT
END:VTIMEZONE
END:VCALENDAR