BEGIN:VCALENDAR
VERSION:2.0
PRODID:-//wp-events-plugin.com//7.0.5//EN
TZID:America/Detroit
X-WR-TIMEZONE:America/Detroit
BEGIN:VEVENT
UID:590@test.arabamerica.com
DTSTART;TZID=America/Detroit;VALUE=DATE:20150319
DTEND;TZID=America/Detroit;VALUE=DATE:20150323
DTSTAMP:20150309T033831Z
URL:https://test.arabamerica.com/events/ann-arbor-palestine-film-festival/
SUMMARY:Ann Arbor Palestine Film Festival
DESCRIPTION:MICHIGAN\n\n\n\n\n\n\nThe Ann Arbor Palestine Film Festival was
  founded in 2008 by a group of University of Michigan students eager to br
 ing Palestinian film to their campus and community.\n\nSince its first deb
 ut in spring 2009\, two more successful festivals were held in 2010 and 20
 11\, respectively. After a brief haitus and a new batch of organizers\, t
 he Ann Arbor Palestine Film Festival is back and ready for its fourth annu
 al festival season: March 19-22\, 2015.\n\nBy amplifying Palestinian voice
 s through the screen arts\, the film festival aims to educate the communit
 y of Ann Arbor about the arts\, culture\, politics\, and history of Palest
 ine.\n\nThe Ann Arbor Palestine Film Festival is an independent and non-se
 ctarian student organization at the University of Michigan.\n\n\n\n\n\n\n
ATTACH;FMTTYPE=image/jpeg:https://test.arabamerica.com/wp-content/uploads/
 2015/03/4fb926_949a038e9b4646d4981ca3477baadb4b.png_srz_354_186_75_22_0.50
 _1.20_0.00_png_srz.png
CATEGORIES:Festivals,Film
LOCATION:University of Michigan\, 500 S State St\, Ann Arbor\, MI\, United 
 States
GEO:42.2762375;-83.74131030000001
X-APPLE-STRUCTURED-LOCATION;VALUE=URI;X-ADDRESS=500 S State St\, Ann Arbor\
 , MI\, United States;X-APPLE-RADIUS=100;X-TITLE=University of Michigan:geo
 :42.2762375,-83.74131030000001
END:VEVENT
BEGIN:VTIMEZONE
TZID:America/Detroit
X-LIC-LOCATION:America/Detroit
BEGIN:DAYLIGHT
DTSTART:20150308T030000
TZOFFSETFROM:-0500
TZOFFSETTO:-0400
TZNAME:EDT
END:DAYLIGHT
END:VTIMEZONE
END:VCALENDAR