BEGIN:VCALENDAR
VERSION:2.0
PRODID:-//wp-events-plugin.com//7.0.5//EN
TZID:America/Detroit
X-WR-TIMEZONE:America/Detroit
BEGIN:VEVENT
UID:905@test.arabamerica.com
DTSTART;TZID=America/Detroit:20150427T190000
DTEND;TZID=America/Detroit:20150427T211500
DTSTAMP:20150406T174255Z
URL:https://test.arabamerica.com/events/an-evening-with-jessica-stern-j-m-
 berger-authors-of-isis-the-state-of-terror/
SUMMARY:An Evening with Jessica Stern & J.M. Berger\, Authors of "ISIS: The
  State of Terror"
DESCRIPTION:CONNECTICUT\n\nFree &amp\; open to the community. Register at 
 jccgreenwich.org\n\nJessica Stern is a fellow at the FXB Center for Health
  and Human Rights at the Harvard School of Public Health and a Lecturer in
  Government at Harvard University. She is an Advanced Academic Candidate a
 t the Massachusetts Institute of Psychoanalysis and is an expert on terror
 ism. She serves on the Hoover Institution Task Force on National Security 
 and Law. She is a 2014-2015 Fulbright Scholar and\, in 2009\, she was awar
 ded a Guggenheim Fellowship for her work on trauma and violence. Jessica w
 as included in Time magazine’s series profiling 100 people with bold ide
 as. The film\, “The Peacemaker”\, with Nicole Kidman and George Cloone
 y\, was based on a fictional version of Jessica’s work at the National S
 ecurity Council.\n\nJ.M. Berger is a terrorism analyst and journalist with
  more than 20 years experience in virtually every media platform. Berger h
 as worked for and with television productions (National Geographic Channel
 \, Al Jazeera\, NRK\, Fox News)\, radio (NPR\, PRI)\, newspapers (Boston G
 lobe\, Pittsburgh Business Times)\, and New Media (Nielsen Norman Group\,I
 ntelwire.com\, and more). In addition to terrorism\, he also writes about 
 business\, technology and science.\n\n&nbsp\;
ATTACH;FMTTYPE=image/jpeg:https://test.arabamerica.com/wp-content/uploads/
 2015/04/19119_879632785429135_568185376277557210_n1.jpg
CATEGORIES:Lecture
LOCATION:Greenwich Town Hall\, 101 Field Point Rd\, Greenwich\, CT\, United
  States
GEO:41.0250785;-73.62902919999999
X-APPLE-STRUCTURED-LOCATION;VALUE=URI;X-ADDRESS=101 Field Point Rd\, Greenw
 ich\, CT\, United States;X-APPLE-RADIUS=100;X-TITLE=Greenwich Town Hall:ge
 o:41.0250785,-73.62902919999999
END:VEVENT
BEGIN:VTIMEZONE
TZID:America/Detroit
X-LIC-LOCATION:America/Detroit
BEGIN:DAYLIGHT
DTSTART:20150308T030000
TZOFFSETFROM:-0500
TZOFFSETTO:-0400
TZNAME:EDT
END:DAYLIGHT
END:VTIMEZONE
END:VCALENDAR