BEGIN:VCALENDAR
VERSION:2.0
PRODID:-//wp-events-plugin.com//7.0.5//EN
TZID:America/Detroit
X-WR-TIMEZONE:America/Detroit
BEGIN:VEVENT
UID:906@test.arabamerica.com
DTSTART;TZID=America/Detroit:20150413T183000
DTEND;TZID=America/Detroit:20150413T213000
DTSTAMP:20150406T175040Z
URL:https://test.arabamerica.com/events/an-evening-to-support-refugees-in-
 turkey/
SUMMARY:An Evening to Support Refugees in Turkey
DESCRIPTION:NEW YORK\n\nJoin us for our first event to support legal assist
 ance for refugees in Turkey.\n\nFeaturing:\n\n- Musical performance by Kin
 an Azmeh &amp\; City Band\nhttp://www.kinanazmeh.com/\n\n- Raffle and sile
 nt auction (local NY prizes + unique items from the region)\n\n- Short-doc
  screening\n\n- Refreshments and appetizers\n\nOn February 26th in New Yor
 k\, the United Nations High Commissioner for Refugees\, Mr. Antonio Guterr
 es\, announced to the Security Council that "Turkey has now become the big
 gest refugee-hosting country in the world."\n\nJust 5 years ago\, Turkey w
 as not among the top 10. The Syrian conflict has caused nearly 2 million S
 yrians to flee to Turkey\, while 200\,000 nationals of other countries lik
 e Iraq\, Afghanistan\, Iran\, and Somalia also seek safety there.\n\nRSN i
 s a 501c3 non-profit organization that views legal assistance as an integr
 al part of humanitarian assistance. RSN not only mobilizes financial resou
 rces to support Turkish non-profits\, but uses best-practices from the Ame
 rican legal field to create a more effective and interlinked Turkish legal
  community that can provide legal aid across the country. By funding a leg
 al community center\, introducing pro bono programs\, and promoting system
 ic advocacy\, RSN works to create sustainable solutions\, not short-term a
 id.
ATTACH;FMTTYPE=image/jpeg:https://test.arabamerica.com/wp-content/uploads/
 2015/04/15809_810892862338238_2047330250493745435_n.jpg
CATEGORIES:Fundraiser
LOCATION:DCTV\, 87 Lafayette St\, New York\, New York\, 10013\, United Stat
 es
GEO:40.717307;-74.00114400000001
X-APPLE-STRUCTURED-LOCATION;VALUE=URI;X-ADDRESS=87 Lafayette St\, New York\
 , New York\, 10013\, United States;X-APPLE-RADIUS=100;X-TITLE=DCTV:geo:40.
 717307,-74.00114400000001
END:VEVENT
BEGIN:VTIMEZONE
TZID:America/Detroit
X-LIC-LOCATION:America/Detroit
BEGIN:DAYLIGHT
DTSTART:20150308T030000
TZOFFSETFROM:-0500
TZOFFSETTO:-0400
TZNAME:EDT
END:DAYLIGHT
END:VTIMEZONE
END:VCALENDAR