BEGIN:VCALENDAR
VERSION:2.0
PRODID:-//wp-events-plugin.com//7.0.5//EN
TZID:America/Detroit
X-WR-TIMEZONE:America/Detroit
BEGIN:VEVENT
UID:907@test.arabamerica.com
DTSTART;TZID=America/Detroit:20150416T193000
DTEND;TZID=America/Detroit:20150416T214500
DTSTAMP:20150406T175331Z
URL:https://test.arabamerica.com/events/amir-elsaffar-rivers-of-sound-larg
 e-ensemble-not-two/
SUMMARY:Amir ElSaffar: Rivers of Sound Large Ensemble: Not Two
DESCRIPTION:NEW YORK\n\nRivers of Sound presents 17 musicians from a broad 
 spectrum of traditions\, from Iraqi maqam to American jazz. Using resonanc
 e as its governing principle\, the music incorporates elements of maqam mo
 dal music of the Middle East with jazz and other contemporary musical prac
 tices to create a unique microtonal musical environment that moves beyond 
 the notions of style and tradition into a realm of uninhibited musical com
 munication. As pitches and rhythms become fluid\, so do cultural boundarie
 s: elements that traditionally divide musicians and genre-specific modes a
 re re-contextualized in a fresh transcultural soundscape.\n\nFeaturing:\nA
 mir ElSaffar\, trumpet/santur\nCarlo DeRosa\, acoustic bass\nCraig Taborn\
 , piano\nDena ElSaffar\, violin/jowza\nFabrizio Cassol\, alto saxophone\n
 George Ziadeh\, oud/vocals\nJason Adasiewicz\, vibraphone\nJD Parran\, bas
 s saxophone/clarinet\nMiles Okazaki\, electric guitar\nMohammed Saleh\, ob
 oe/English horn\nNasheet Waits\, drums\nOle Mathisen\, tenor saxophone/sop
 rano saxophone\nRajna Swaminathan\, mridangam\nTareq Abboushi\, buzuq\nTim
  Moore\, percussion/dumbek/frame drum\nZafer Tawil\, percussion/oud\n\nThi
 s show is a Lincoln Center co-commission and was underwritten by the MAP F
 und and the Arab Fund for Arts and Culture (AFAC)\n\nThis show is free and
  open to the public.\n\nMore details here:\nwww.amirelsaffar.com\nhttp://a
 trium.lincolncenter.org/2015/amir-elsaffar.html\n\nPhoto Credit: Michael C
 rommett
ATTACH;FMTTYPE=image/jpeg:https://test.arabamerica.com/wp-content/uploads/
 2015/04/11018918_771756379599045_6221808851283191449_n.jpg
CATEGORIES:Music/Folk/World
LOCATION:David Rubenstein Atrium at Lincoln Center\, 61 W 62nd St\, New Yor
 k\, New York\, United States
GEO:40.7710841;-73.98292019999997
X-APPLE-STRUCTURED-LOCATION;VALUE=URI;X-ADDRESS=61 W 62nd St\, New York\, N
 ew York\, United States;X-APPLE-RADIUS=100;X-TITLE=David Rubenstein Atrium
  at Lincoln Center:geo:40.7710841,-73.98292019999997
END:VEVENT
BEGIN:VTIMEZONE
TZID:America/Detroit
X-LIC-LOCATION:America/Detroit
BEGIN:DAYLIGHT
DTSTART:20150308T030000
TZOFFSETFROM:-0500
TZOFFSETTO:-0400
TZNAME:EDT
END:DAYLIGHT
END:VTIMEZONE
END:VCALENDAR