BEGIN:VCALENDAR
VERSION:2.0
PRODID:-//wp-events-plugin.com//7.0.5//EN
TZID:America/Detroit
X-WR-TIMEZONE:America/Detroit
BEGIN:VEVENT
UID:944@test.arabamerica.com
DTSTART;TZID=America/Detroit:20150529T210000
DTEND;TZID=America/Detroit:20150530T010000
DTSTAMP:20150413T150408Z
URL:https://test.arabamerica.com/events/ali-deek/
SUMMARY:Ali Deek
DESCRIPTION:MICHIGAN\n\nCome out and experience a night with the famous sin
 ger\, Ali Deek\n\n&nbsp\;
ATTACH;FMTTYPE=image/jpeg:https://test.arabamerica.com/wp-content/uploads/
 2015/04/11147026_906931326035449_1511167477446279874_n.jpg
CATEGORIES:Music/Folk/World
LOCATION:Dearborn Civic Center\, 15801 Michigan Ave\, Dearborn\, MI \, 4812
 6\, United States
GEO:42.3141189;-83.1973739
X-APPLE-STRUCTURED-LOCATION;VALUE=URI;X-ADDRESS=15801 Michigan Ave\, Dearbo
 rn\, MI \, 48126\, United States;X-APPLE-RADIUS=100;X-TITLE=Dearborn Civic
  Center:geo:42.3141189,-83.1973739
END:VEVENT
BEGIN:VTIMEZONE
TZID:America/Detroit
X-LIC-LOCATION:America/Detroit
BEGIN:DAYLIGHT
DTSTART:20150308T030000
TZOFFSETFROM:-0500
TZOFFSETTO:-0400
TZNAME:EDT
END:DAYLIGHT
END:VTIMEZONE
END:VCALENDAR