BEGIN:VCALENDAR
VERSION:2.0
PRODID:-//wp-events-plugin.com//7.0.5//EN
TZID:America/Detroit
X-WR-TIMEZONE:America/Detroit
BEGIN:VEVENT
UID:946@test.arabamerica.com
DTSTART;TZID=America/Detroit:20150502T210000
DTEND;TZID=America/Detroit:20150503T010000
DTSTAMP:20150428T222031Z
URL:https://test.arabamerica.com/events/ali-deek-in-san-francisco/
SUMMARY:Ali Deek in San Diego & San Francisco
DESCRIPTION:CALIFORNIA\n\nCome out and enjoy the night with singer\, Ali De
 ek In\n\n\nMay 1\, 2015 San Diego: https://www.facebook.com/petra.stars.on
 .tours/photos/pcb.906932956035286/906931339368781/?type=1&amp\;theater\nPh
 one:\n619-913-9999\nOrganization:\nPetra Entertainment
ATTACH;FMTTYPE=image/jpeg:https://test.arabamerica.com/wp-content/uploads/
 2015/04/10984470_906931419368773_7590958269503986846_n.jpg
CATEGORIES:Music/Folk/World
LOCATION:St Nicolas Hall\, 5200 Diamond Heights BLVD\, San Francisco \, CA\
 , United States
GEO:37.7448452;-122.44038519999998
X-APPLE-STRUCTURED-LOCATION;VALUE=URI;X-ADDRESS=5200 Diamond Heights BLVD\,
  San Francisco \, CA\, United States;X-APPLE-RADIUS=100;X-TITLE=St Nicolas
  Hall:geo:37.7448452,-122.44038519999998
END:VEVENT
BEGIN:VTIMEZONE
TZID:America/Detroit
X-LIC-LOCATION:America/Detroit
BEGIN:DAYLIGHT
DTSTART:20150308T030000
TZOFFSETFROM:-0500
TZOFFSETTO:-0400
TZNAME:EDT
END:DAYLIGHT
END:VTIMEZONE
END:VCALENDAR