BEGIN:VCALENDAR
VERSION:2.0
PRODID:-//wp-events-plugin.com//7.0.5//EN
TZID:America/Detroit
X-WR-TIMEZONE:America/Detroit
BEGIN:VEVENT
UID:945@test.arabamerica.com
DTSTART;TZID=America/Detroit:20150501T210000
DTEND;TZID=America/Detroit:20150502T010000
DTSTAMP:20150413T150847Z
URL:https://test.arabamerica.com/events/ali-deek-in-san-diego/
SUMMARY:Ali Deek in San Diego
DESCRIPTION:CALIFORNIA\n\nCome out and enjoy the night with singer\, Ali De
 ek.\n\n&nbsp\;
ATTACH;FMTTYPE=image/jpeg:https://test.arabamerica.com/wp-content/uploads/
 2015/04/11011006_906931339368781_7296333817973496510_n.jpg
CATEGORIES:Music/Folk/World
LOCATION:Royal Palace Banquet Hall\, 1340 Broadway\, El Cajon\, CA\, 92021\
 , United States
GEO:32.808012;-116.9338414
X-APPLE-STRUCTURED-LOCATION;VALUE=URI;X-ADDRESS=1340 Broadway\, El Cajon\, 
 CA\, 92021\, United States;X-APPLE-RADIUS=100;X-TITLE=Royal Palace Banquet
  Hall:geo:32.808012,-116.9338414
END:VEVENT
BEGIN:VTIMEZONE
TZID:America/Detroit
X-LIC-LOCATION:America/Detroit
BEGIN:DAYLIGHT
DTSTART:20150308T030000
TZOFFSETFROM:-0500
TZOFFSETTO:-0400
TZNAME:EDT
END:DAYLIGHT
END:VTIMEZONE
END:VCALENDAR