BEGIN:VCALENDAR
VERSION:2.0
PRODID:-//wp-events-plugin.com//7.0.5//EN
TZID:America/Detroit
X-WR-TIMEZONE:America/Detroit
BEGIN:VEVENT
UID:908@test.arabamerica.com
DTSTART;TZID=America/Detroit:20150410T200000
DTEND;TZID=America/Detroit:20150410T230000
DTSTAMP:20150406T180449Z
URL:https://test.arabamerica.com/events/acw-tgif-pool-bowling/
SUMMARY:ACW TGIF: Pool & Bowling
DESCRIPTION:WASHINGTON\n\nStart your weekend off right by joining ACW’s w
 eekly TGIF (thank goodness it’s Friday) events…\n\nWe will alternate b
 etween Seattle and Bellevue and encourage you to host an event (or suggest
  places/ activities for us discover together!!)\n\nWhen:\nFor our inaugura
 l event we will meet at Garage Billiards at 8pm (April 10) (Seattle)\n\nYo
 u must be at least 21 to get in. Please bring an ID otherwise you won't be
  allowed in.\n\nLogistics upon arrival:\nWe will wait inside the entrance 
 till our group arrives and decide on pool or bowling (if we are adventurou
 s we can do both)\n
ATTACH;FMTTYPE=image/jpeg:https://test.arabamerica.com/wp-content/uploads/
 2015/04/11127760_831014706978554_5828981571668828764_n.jpg
CATEGORIES:Community
LOCATION:The Garage Billiards\, 1130 Broadway\, Seattle\, Washington\, Unit
 ed States
GEO:47.6121864;-122.3204073
X-APPLE-STRUCTURED-LOCATION;VALUE=URI;X-ADDRESS=1130 Broadway\, Seattle\, W
 ashington\, United States;X-APPLE-RADIUS=100;X-TITLE=The Garage Billiards:
 geo:47.6121864,-122.3204073
END:VEVENT
BEGIN:VTIMEZONE
TZID:America/Detroit
X-LIC-LOCATION:America/Detroit
BEGIN:DAYLIGHT
DTSTART:20150308T030000
TZOFFSETFROM:-0500
TZOFFSETTO:-0400
TZNAME:EDT
END:DAYLIGHT
END:VTIMEZONE
END:VCALENDAR