BEGIN:VCALENDAR
VERSION:2.0
PRODID:-//wp-events-plugin.com//7.0.5//EN
TZID:America/Detroit
X-WR-TIMEZONE:America/Detroit
BEGIN:VEVENT
UID:868@test.arabamerica.com
DTSTART;TZID=America/Detroit:20150515T220000
DTEND;TZID=America/Detroit:20150515T233000
DTSTAMP:20150403T150500Z
URL:https://test.arabamerica.com/events/abrahams-desert-film-premiere/
SUMMARY:Abraham's Desert Film Premiere
DESCRIPTION:CALIFORNIA\n\nAbraham's Desert Film Premiere\n\nCome out and ne
 twork with us!\n\n
ATTACH;FMTTYPE=image/jpeg:https://test.arabamerica.com/wp-content/uploads/
 2015/04/10375494_799185223506159_586280183122923247_n.jpg
CATEGORIES:Film
LOCATION:22324 Golden Springs Drive\, 22324 Golden Springs Drive\, Diamond 
 Bar\, CA\, 91765\, United States
GEO:34.00257610000001;-117.82308069999999
X-APPLE-STRUCTURED-LOCATION;VALUE=URI;X-ADDRESS=22324 Golden Springs Drive\
 , Diamond Bar\, CA\, 91765\, United States;X-APPLE-RADIUS=100;X-TITLE=2232
 4 Golden Springs Drive:geo:34.00257610000001,-117.82308069999999
END:VEVENT
BEGIN:VTIMEZONE
TZID:America/Detroit
X-LIC-LOCATION:America/Detroit
BEGIN:DAYLIGHT
DTSTART:20150308T030000
TZOFFSETFROM:-0500
TZOFFSETTO:-0400
TZNAME:EDT
END:DAYLIGHT
END:VTIMEZONE
END:VCALENDAR