BEGIN:VCALENDAR
VERSION:2.0
PRODID:-//wp-events-plugin.com//7.0.5//EN
TZID:America/Detroit
X-WR-TIMEZONE:America/Detroit
BEGIN:VEVENT
UID:934@test.arabamerica.com
DTSTART;TZID=America/Detroit:20150415T180000
DTEND;TZID=America/Detroit:20150415T203000
DTSTAMP:20150408T164154Z
URL:https://test.arabamerica.com/events/a-discussion-on-israel-and-palesti
 ne/
SUMMARY:A Discussion on Israel and Palestine
DESCRIPTION:GEORGIA\n\n\nThis event will be a discussion involving parties 
 equally representing many sides who will be answering questions about the 
 conflict.\n\n\n\n \n&nbsp\;
ATTACH;FMTTYPE=image/jpeg:https://test.arabamerica.com/wp-content/uploads/
 2015/04/11150873_10203645950142062_4187146646311124756_n.jpg
CATEGORIES:Academic Lecture
LOCATION:Emory University\, 201 Dowman Dr\, Atlanta\, GA\, 30322\, United S
 tates
GEO:33.7894903;-84.32677160000003
X-APPLE-STRUCTURED-LOCATION;VALUE=URI;X-ADDRESS=201 Dowman Dr\, Atlanta\, G
 A\, 30322\, United States;X-APPLE-RADIUS=100;X-TITLE=Emory University:geo:
 33.7894903,-84.32677160000003
END:VEVENT
BEGIN:VTIMEZONE
TZID:America/Detroit
X-LIC-LOCATION:America/Detroit
BEGIN:DAYLIGHT
DTSTART:20150308T030000
TZOFFSETFROM:-0500
TZOFFSETTO:-0400
TZNAME:EDT
END:DAYLIGHT
END:VTIMEZONE
END:VCALENDAR