BEGIN:VCALENDAR
VERSION:2.0
PRODID:-//wp-events-plugin.com//7.0.5//EN
TZID:America/Detroit
X-WR-TIMEZONE:America/Detroit
BEGIN:VEVENT
UID:871@test.arabamerica.com
DTSTART;TZID=America/Detroit;VALUE=DATE:20150416
DTEND;TZID=America/Detroit;VALUE=DATE:20150417
DTSTAMP:20150403T151733Z
URL:https://test.arabamerica.com/events/7th-annual-rutgers-arab-american-s
 treet-festival/
SUMMARY:7th Annual Rutgers Arab American Street Festival
DESCRIPTION:NEW JERSEY\n\nRU READY?!\n\nIT'S THAT TIME OF YEAR!! ACC Presen
 ts our 7th Annual ARAB STREET FEST!\n\nCome one\, Come All! Take part in t
 he largest Arab Cultural Collegiate Festival in the NATION! Let's make thi
 s one even BIGGER and BETTER than ever!\n\nHERE WE GO:\n\nThis year we wil
 l keep our great location from last year which is at Bishop Beach!!! Locat
 ed across the street from Au Bon Pain\, to the right of Brower Commons!\n\
 nCome by to learn and educate yourself about Arab culture and history! We 
 will be having:\n-Displays of various famous Arab-Americans who have impac
 ted our society and made historic changes! \n- A display of Middle Easter
 n instruments and their history\n- A display of religious sites across the
  Middle East and their history\n- A table with various books ranging from 
 topics about Arab Culture/History to Arabic Proverbs!\n- A display of Arab
  Cultural Art work\n-And games that test your Arab Culture knowledge!\n\nA
 ctivities:\n- Carnival-style games\n- Debkeh\n- Rock wall\n- Moon bounce j
 ousting\n-Mechanical Bull\n- Henna\n-Dunk Tank\n-IN PERSON Trivia crack\n\
 n\nLOTS of Fun Contests with some AWESOME Prizes\, Like:\n- Watermelon eat
 ing contest\n- Bellydancing contest\n- 3 legged race\n- Limbo\n- Hula hoop
  contest\n- Waterballoon toss\n- Mummy wrap\n- AND MORE!!\n\nWe will be ha
 ving FREE:\n-Hookah from Fire n Ice Hookah Lounge\n-Cotton Candy\n-Popcorn
 \n-Middle Eastern Food\n-PERSONALIZED Graffiti Shirts\n-AND MORE!!\n\nPerf
 ormances:\n-DJ Zenzune with the hottest English and Arabic Music\n-Dance p
 erformances by several different cultural and contemporary dance groups on
  campus!\n-Debke\n-Belly Dancing\n-Darvish Dancing\n\nBE ON THE LOOK OUT F
 OR SOMETHING TOTALLY NEW AND UNEXPECTED THIS YEAR! TO BE ANNOUNCED SOON!!!
 !\n\nTHE BEST PART? EVERYTHING IS FREE!\n\nWant to preform at our street f
 est? Please contact us at acc.rutgers@gmail.com for more information\n\nMu
 ch\, much more to be announced!\n\n\nFunding Provided By:\nRUSA Allocation
 s\n\n
ATTACH;FMTTYPE=image/jpeg:https://test.arabamerica.com/wp-content/uploads/
 2015/04/11070538_635293326604152_2214389855242026840_n.jpg
CATEGORIES:Community,Festivals
LOCATION:Rutgers University\, 126 College Ave\, New Brunswick\, New Jersey\
 , 08901\, United States
GEO:40.5029102;-74.4521411
X-APPLE-STRUCTURED-LOCATION;VALUE=URI;X-ADDRESS=126 College Ave\, New Bruns
 wick\, New Jersey\, 08901\, United States;X-APPLE-RADIUS=100;X-TITLE=Rutge
 rs University:geo:40.5029102,-74.4521411
END:VEVENT
BEGIN:VTIMEZONE
TZID:America/Detroit
X-LIC-LOCATION:America/Detroit
BEGIN:DAYLIGHT
DTSTART:20150308T030000
TZOFFSETFROM:-0500
TZOFFSETTO:-0400
TZNAME:EDT
END:DAYLIGHT
END:VTIMEZONE
END:VCALENDAR