BEGIN:VCALENDAR
VERSION:2.0
PRODID:-//wp-events-plugin.com//7.0.5//EN
TZID:America/Detroit
X-WR-TIMEZONE:America/Detroit
BEGIN:VEVENT
UID:933@test.arabamerica.com
DTSTART;TZID=America/Detroit:20150415T190000
DTEND;TZID=America/Detroit:20150415T210000
DTSTAMP:20150408T163904Z
URL:https://test.arabamerica.com/events/67-years-the-nakba-continues-pales
 tinian-refugees-the-right-to-education/
SUMMARY:67 Years & the Nakba Continues: Palestinian Refugees & the Right to
  Education
DESCRIPTION:DISTRICT OF COLUMBIA\n\n67 Years &amp\; the Nakba Continues\nPa
 lestinian Refugees &amp\; the Right to Education\n\nfeaturing Foty Fusion 
 and Nour Joudah\n\nCome hear a discussion on the Palestinian refugee reali
 ty\, as well as firsthand accounts from volunteers who worked in Shatila c
 amp in Lebanon and ways that you can meaningfully support and contribute t
 o the refugee community.\n\n\n+EVENT DESCRIPTION:\nMay 2015 marks the 67th
  anniversary of al Nakba\, or the Catastrophe. Israel's establishment resu
 lted in\, and required\, the forcible displacement of Palestinians both wi
 thin and outside of Palestine. Many fled their homes to neighboring Arab c
 ountries\, including Syria\, Lebanon\, and Jordan where they settled in re
 fugee camps. The Nakba and the resultantrefugee population is central to t
 he Israel-Palestinian conflict because it represents Israel’s settler-co
 lonial political vision as well as Palestinian claims not simply for land 
 but for rehabilitation. The question of refugees is essential to the discu
 ssion of any just resolution.\n\nThe forced removal and exile of Palestini
 ans is not a single\, historic event\, but an ongoing condition defining t
 heir grievances and struggle. The confluence of laws\, administrative orde
 rs\, military rule\, and High Court decisions work together to systematica
 lly reduce\, concentrate and remove Palestinians from their homes and land
 s.\n\n+ABOUT LEAP:\nLearning for the Empowerment and Advancement of Palest
 inians (LEAP) furthers the educational attainment of Palestinian refugee y
 outh in the camps of Lebanon.\n\n+SPEAKERS:\nPlease join Nour Joudah\, Ass
 ociate Producer at Status Hour\, for an important discussion on the Palest
 inian refugee reality and hear from former LEAP volunteers who will also d
 iscuss ways to contribute to the Palestinian refugee community in Lebanon 
 through their firsthand experiences.\n\nFeatured performance by DC’s own
  Foty Fusion whose unique blend of traditional Arabic rhythms and classica
 l stylings will be sure to make this event one not to be missed!\n\n+PROCE
 EDS:\nAll proceeds will benefit LEAP’s SHINE 2015 summer project to prov
 ide an intensive summer experience to over 600 refugee-youth in Lebanon.\n
 \nSuggested entrance fee: $20-$50 (no one turned away)\n\n***Learn more: S
 HINE 2015 video https://www.youtube.com/watch?v=E4moecyKHyU\n\nSupport th
 e campaign!\n+Donate: http://bit.ly/1xKW6tq\n+Share: http://bit.ly/1xKW6
 tq\n\n
ATTACH;FMTTYPE=image/jpeg:https://test.arabamerica.com/wp-content/uploads/
 2015/04/11146183_949564308390172_1555285768490827383_n.jpg
CATEGORIES:Advocacy,Community,Fundraiser
LOCATION:Busboys and Poets\, 2021 14th St NW\, Washington\, DC\, United Sta
 tes
GEO:38.91799200000001;-77.03186299999999
X-APPLE-STRUCTURED-LOCATION;VALUE=URI;X-ADDRESS=2021 14th St NW\, Washingto
 n\, DC\, United States;X-APPLE-RADIUS=100;X-TITLE=Busboys and Poets:geo:38
 .91799200000001,-77.03186299999999
END:VEVENT
BEGIN:VTIMEZONE
TZID:America/Detroit
X-LIC-LOCATION:America/Detroit
BEGIN:DAYLIGHT
DTSTART:20150308T030000
TZOFFSETFROM:-0500
TZOFFSETTO:-0400
TZNAME:EDT
END:DAYLIGHT
END:VTIMEZONE
END:VCALENDAR