BEGIN:VCALENDAR
VERSION:2.0
PRODID:-//wp-events-plugin.com//7.0.5//EN
TZID:America/Detroit
X-WR-TIMEZONE:America/Detroit
BEGIN:VEVENT
UID:911@test.arabamerica.com
DTSTART;TZID=America/Detroit:20150424T201500
DTEND;TZID=America/Detroit:20150424T223000
DTSTAMP:20150406T181949Z
URL:https://test.arabamerica.com/events/24-cpff-presents-villa-touma-and-c
 ondom-lead/
SUMMARY:CPFF presents "Villa Touma" and "Condom Lead"
DESCRIPTION:ILLINOIS\n\nChicago Palestine Film Festival presents the Chica
 go premiere of the award winning Palestinian film VILLA TOUMA by acclaim
 ed writer Suha Arraf. Also playing is the unique and hilarious film CONDON
  LEAD by Gazan film makers Tarzan and Arab.\n\nVILLA TOUMA\nTrailer - htt
 ps://www.youtube.com/watch?v=jMg-SWePBgw\n\nSuha Arraf\, screenwriter of T
 HE SYRIAN BRIDE and THE LEMON TREE\, makes her directorial debut with this
  atmospheric coming of age tale steeped in irony and touched by subtle com
 edy. Badia (Zreik)\, a spirited orphan girl\, passes into the reluctant cu
 stody of three uptight and devoutly Christian spinster aunts in the gloomy
  time warp of their crumbling Ramallah mansion\, where a plan is hatched t
 o marry her off before her wild ways sully the reputation of these faded a
 ristocrats living on past glory.\n\nCONDOM LEAD\nWar turns a couple’s lo
 ve life into a waiting game.\n\nJoin us for a panel discussion after the f
 ilm!\n\nCPFF is a 501-c3 not for profit organization dedicated to telling 
 the stories of the Palestinian people and promoting social justice and com
 munity.\n\n
ATTACH;FMTTYPE=image/jpeg:https://test.arabamerica.com/wp-content/uploads/
 2015/04/thumb.php_.jpeg
CATEGORIES:Film
LOCATION:Gene Siskel Film Center of the School of the Art Institute of Chic
 ago\, 164 N State St\, Chicago\, IL\, 60601\, United States
GEO:41.884861;-87.628309
X-APPLE-STRUCTURED-LOCATION;VALUE=URI;X-ADDRESS=164 N State St\, Chicago\, 
 IL\, 60601\, United States;X-APPLE-RADIUS=100;X-TITLE=Gene Siskel Film Cen
 ter of the School of the Art Institute of Chicago:geo:41.884861,-87.628309
END:VEVENT
BEGIN:VTIMEZONE
TZID:America/Detroit
X-LIC-LOCATION:America/Detroit
BEGIN:DAYLIGHT
DTSTART:20150308T030000
TZOFFSETFROM:-0500
TZOFFSETTO:-0400
TZNAME:EDT
END:DAYLIGHT
END:VTIMEZONE
END:VCALENDAR