BEGIN:VCALENDAR
VERSION:2.0
PRODID:-//wp-events-plugin.com//7.0.5//EN
TZID:America/Detroit
X-WR-TIMEZONE:America/Detroit
BEGIN:VEVENT
UID:917@test.arabamerica.com
DTSTART;TZID=America/Detroit:20150522T193000
DTEND;TZID=America/Detroit:20150522T213000
DTSTAMP:20150406T184557Z
URL:https://test.arabamerica.com/events/1913-seeds-of-a-conflict/
SUMMARY:1913: Seeds of A Conflict
DESCRIPTION:TEXAS\n\nBreaking new ground and shattering old myths\, 1913: S
 EEDS of CONFLICT\, directed by award-winning filmmaker Ben Loeterman\, exp
 lores the little-known history of Palestine during the latter part of the 
 Ottoman Empire\, a time of relative harmony between Arabs and Jews. Weavin
 g the raveled threads of Arab and Jewish narratives back together\, 1913: 
 SEEDS of CONFLICT provides new and fascinating insights into the dramatic 
 events that took place in Palestine which set the stage for the coming cen
 tury of unrest.\n\nDate &amp\; Place: Friday\, May 22 - 7:30 PM at Rice Un
 iversity Media Center\nDirector: Ben Loeterman\nWriter: Ben Loeterman\n\n
ATTACH;FMTTYPE=image/jpeg:https://test.arabamerica.com/wp-content/uploads/
 2015/04/17419_1036531063027198_3270862829067954381_n.jpg
CATEGORIES:Festivals,Film
LOCATION:Rice Media Center\, 6100 Main Street\, Houston\, TX\, United State
 s
GEO:29.7161208;-95.40430190000001
X-APPLE-STRUCTURED-LOCATION;VALUE=URI;X-ADDRESS=6100 Main Street\, Houston\
 , TX\, United States;X-APPLE-RADIUS=100;X-TITLE=Rice Media Center:geo:29.7
 161208,-95.40430190000001
END:VEVENT
BEGIN:VTIMEZONE
TZID:America/Detroit
X-LIC-LOCATION:America/Detroit
BEGIN:DAYLIGHT
DTSTART:20150308T030000
TZOFFSETFROM:-0500
TZOFFSETTO:-0400
TZNAME:EDT
END:DAYLIGHT
END:VTIMEZONE
END:VCALENDAR