BEGIN:VCALENDAR
VERSION:2.0
PRODID:-//wp-events-plugin.com//7.0.5//EN
TZID:America/Detroit
X-WR-TIMEZONE:America/Detroit
BEGIN:VEVENT
UID:885@test.arabamerica.com
DTSTART;TZID=America/Detroit:20150507T153000
DTEND;TZID=America/Detroit:20150507T213000
DTSTAMP:20150406T152745Z
URL:https://test.arabamerica.com/events/%d8%ad%d9%81%d9%84-%d9%85%d8%ba%d8
 %b1%d8%a8%d9%8a100-%d9%81%d9%8a-%d9%88%d8%a7%d8%b4%d9%86%d8%b7%d9%86-moroc
 can-wedding-party/
SUMMARY:حفل مغربي100% في واشنطن Moroccan Wedding Party
DESCRIPTION:VIRGINIA\n\n% في واشنطن مع عرض النكافة أم
 ينة الفيلالي للباس العرائس ، و أجمل وأحل
 ى عماريات مغربية أصيلة . مع الفنانة سناء 
 مصحوبة بفرقة أركسترا عبدو الفيلالي ، وفق
 رة الدقة المراكشية، وديجي كيمو...\nMoroccan Part
 y 100% featuring Negafa Amina Filali with the latest Moroccan Bride Costum
 es and 3amariyat.\nTickets $ 60 in advance / $65 @ the Door include a Deli
 cious Dinner More info check the flyer\nThank you to the sponsors Www.rad
 iomogador.com &amp\; American audio Action\nPayment Paypal is available D
 jkimo94@yahoo.com ( Send money to friends and family to avoid extra charge
 s please) thank you
ATTACH;FMTTYPE=image/jpeg:https://test.arabamerica.com/wp-content/uploads/
 2015/04/11130256_10153385798043243_7627482328253100099_n.jpg
CATEGORIES:Community
LOCATION:Dunya Banquet Hall\, 5951 Stevenson Ave\, Alexandria\, Virginia\, 
 22304\, United States
GEO:38.8138332;-77.1352756
X-APPLE-STRUCTURED-LOCATION;VALUE=URI;X-ADDRESS=5951 Stevenson Ave\, Alexan
 dria\, Virginia\, 22304\, United States;X-APPLE-RADIUS=100;X-TITLE=Dunya B
 anquet Hall:geo:38.8138332,-77.1352756
END:VEVENT
BEGIN:VTIMEZONE
TZID:America/Detroit
X-LIC-LOCATION:America/Detroit
BEGIN:DAYLIGHT
DTSTART:20150308T030000
TZOFFSETFROM:-0500
TZOFFSETTO:-0400
TZNAME:EDT
END:DAYLIGHT
END:VTIMEZONE
END:VCALENDAR